BEGIN:VCALENDAR
VERSION:2.0
PRODID:-//Wyalusing Public Library - ECPv6.15.13//NONSGML v1.0//EN
CALSCALE:GREGORIAN
METHOD:PUBLISH
X-WR-CALNAME:Wyalusing Public Library
X-ORIGINAL-URL:https://wyalusinglibrary.org
X-WR-CALDESC:Events for Wyalusing Public Library
REFRESH-INTERVAL;VALUE=DURATION:PT1H
X-Robots-Tag:noindex
X-PUBLISHED-TTL:PT1H
BEGIN:VTIMEZONE
TZID:America/New_York
BEGIN:DAYLIGHT
TZOFFSETFROM:-0500
TZOFFSETTO:-0400
TZNAME:EDT
DTSTART:20270314T070000
END:DAYLIGHT
BEGIN:STANDARD
TZOFFSETFROM:-0400
TZOFFSETTO:-0500
TZNAME:EST
DTSTART:20271107T060000
END:STANDARD
BEGIN:DAYLIGHT
TZOFFSETFROM:-0500
TZOFFSETTO:-0400
TZNAME:EDT
DTSTART:20280312T070000
END:DAYLIGHT
BEGIN:STANDARD
TZOFFSETFROM:-0400
TZOFFSETTO:-0500
TZNAME:EST
DTSTART:20281105T060000
END:STANDARD
BEGIN:DAYLIGHT
TZOFFSETFROM:-0500
TZOFFSETTO:-0400
TZNAME:EDT
DTSTART:20290311T070000
END:DAYLIGHT
BEGIN:STANDARD
TZOFFSETFROM:-0400
TZOFFSETTO:-0500
TZNAME:EST
DTSTART:20291104T060000
END:STANDARD
BEGIN:DAYLIGHT
TZOFFSETFROM:-0500
TZOFFSETTO:-0400
TZNAME:EDT
DTSTART:20300310T070000
END:DAYLIGHT
BEGIN:STANDARD
TZOFFSETFROM:-0400
TZOFFSETTO:-0500
TZNAME:EST
DTSTART:20301103T060000
END:STANDARD
END:VTIMEZONE
BEGIN:VEVENT
DTSTART;TZID=America/New_York:20281027T100000
DTEND;TZID=America/New_York:20281027T110000
DTSTAMP:20260421T120407
CREATED:20260204T180302Z
LAST-MODIFIED:20260204T184003Z
UID:10001279-1856253600-1856257200@wyalusinglibrary.org
SUMMARY:Storytime
DESCRIPTION:
URL:https://wyalusinglibrary.org/event/storytime-91/2028-10-27/
LOCATION:Wyalusing Public Library\, 115 Church St\, Wyalusing\, PA\, United States
GEO:41.66728;-76.261246
X-APPLE-STRUCTURED-LOCATION;VALUE=URI;X-ADDRESS=Wyalusing Public Library 115 Church St Wyalusing PA United States;X-APPLE-RADIUS=500;X-TITLE=115 Church St:geo:-76.261246,41.66728
END:VEVENT
BEGIN:VEVENT
DTSTART;TZID=America/New_York:20281103T100000
DTEND;TZID=America/New_York:20281103T110000
DTSTAMP:20260421T120407
CREATED:20260204T180302Z
LAST-MODIFIED:20260204T184003Z
UID:10001281-1856858400-1856862000@wyalusinglibrary.org
SUMMARY:Storytime
DESCRIPTION:
URL:https://wyalusinglibrary.org/event/storytime-91/2028-11-03/
LOCATION:Wyalusing Public Library\, 115 Church St\, Wyalusing\, PA\, United States
GEO:41.66728;-76.261246
X-APPLE-STRUCTURED-LOCATION;VALUE=URI;X-ADDRESS=Wyalusing Public Library 115 Church St Wyalusing PA United States;X-APPLE-RADIUS=500;X-TITLE=115 Church St:geo:-76.261246,41.66728
END:VEVENT
BEGIN:VEVENT
DTSTART;TZID=America/New_York:20281110T100000
DTEND;TZID=America/New_York:20281110T110000
DTSTAMP:20260421T120407
CREATED:20260204T180302Z
LAST-MODIFIED:20260204T184003Z
UID:10001283-1857463200-1857466800@wyalusinglibrary.org
SUMMARY:Storytime
DESCRIPTION:
URL:https://wyalusinglibrary.org/event/storytime-91/2028-11-10/
LOCATION:Wyalusing Public Library\, 115 Church St\, Wyalusing\, PA\, United States
GEO:41.66728;-76.261246
X-APPLE-STRUCTURED-LOCATION;VALUE=URI;X-ADDRESS=Wyalusing Public Library 115 Church St Wyalusing PA United States;X-APPLE-RADIUS=500;X-TITLE=115 Church St:geo:-76.261246,41.66728
END:VEVENT
BEGIN:VEVENT
DTSTART;TZID=America/New_York:20281117T100000
DTEND;TZID=America/New_York:20281117T110000
DTSTAMP:20260421T120407
CREATED:20260204T180302Z
LAST-MODIFIED:20260204T184003Z
UID:10001285-1858068000-1858071600@wyalusinglibrary.org
SUMMARY:Storytime
DESCRIPTION:
URL:https://wyalusinglibrary.org/event/storytime-91/2028-11-17/
LOCATION:Wyalusing Public Library\, 115 Church St\, Wyalusing\, PA\, United States
GEO:41.66728;-76.261246
X-APPLE-STRUCTURED-LOCATION;VALUE=URI;X-ADDRESS=Wyalusing Public Library 115 Church St Wyalusing PA United States;X-APPLE-RADIUS=500;X-TITLE=115 Church St:geo:-76.261246,41.66728
END:VEVENT
BEGIN:VEVENT
DTSTART;TZID=America/New_York:20281124T100000
DTEND;TZID=America/New_York:20281124T110000
DTSTAMP:20260421T120407
CREATED:20260204T180302Z
LAST-MODIFIED:20260204T184003Z
UID:10001287-1858672800-1858676400@wyalusinglibrary.org
SUMMARY:Storytime
DESCRIPTION:
URL:https://wyalusinglibrary.org/event/storytime-91/2028-11-24/
LOCATION:Wyalusing Public Library\, 115 Church St\, Wyalusing\, PA\, United States
GEO:41.66728;-76.261246
X-APPLE-STRUCTURED-LOCATION;VALUE=URI;X-ADDRESS=Wyalusing Public Library 115 Church St Wyalusing PA United States;X-APPLE-RADIUS=500;X-TITLE=115 Church St:geo:-76.261246,41.66728
END:VEVENT
BEGIN:VEVENT
DTSTART;TZID=America/New_York:20281201T100000
DTEND;TZID=America/New_York:20281201T110000
DTSTAMP:20260421T120407
CREATED:20260204T180302Z
LAST-MODIFIED:20260204T184003Z
UID:10001289-1859277600-1859281200@wyalusinglibrary.org
SUMMARY:Storytime
DESCRIPTION:
URL:https://wyalusinglibrary.org/event/storytime-91/2028-12-01/
LOCATION:Wyalusing Public Library\, 115 Church St\, Wyalusing\, PA\, United States
GEO:41.66728;-76.261246
X-APPLE-STRUCTURED-LOCATION;VALUE=URI;X-ADDRESS=Wyalusing Public Library 115 Church St Wyalusing PA United States;X-APPLE-RADIUS=500;X-TITLE=115 Church St:geo:-76.261246,41.66728
END:VEVENT
BEGIN:VEVENT
DTSTART;TZID=America/New_York:20281208T100000
DTEND;TZID=America/New_York:20281208T110000
DTSTAMP:20260421T120407
CREATED:20260204T180302Z
LAST-MODIFIED:20260204T184003Z
UID:10001291-1859882400-1859886000@wyalusinglibrary.org
SUMMARY:Storytime
DESCRIPTION:
URL:https://wyalusinglibrary.org/event/storytime-91/2028-12-08/
LOCATION:Wyalusing Public Library\, 115 Church St\, Wyalusing\, PA\, United States
GEO:41.66728;-76.261246
X-APPLE-STRUCTURED-LOCATION;VALUE=URI;X-ADDRESS=Wyalusing Public Library 115 Church St Wyalusing PA United States;X-APPLE-RADIUS=500;X-TITLE=115 Church St:geo:-76.261246,41.66728
END:VEVENT
BEGIN:VEVENT
DTSTART;TZID=America/New_York:20281215T100000
DTEND;TZID=America/New_York:20281215T110000
DTSTAMP:20260421T120407
CREATED:20260204T180302Z
LAST-MODIFIED:20260204T184003Z
UID:10001293-1860487200-1860490800@wyalusinglibrary.org
SUMMARY:Storytime
DESCRIPTION:
URL:https://wyalusinglibrary.org/event/storytime-91/2028-12-15/
LOCATION:Wyalusing Public Library\, 115 Church St\, Wyalusing\, PA\, United States
GEO:41.66728;-76.261246
X-APPLE-STRUCTURED-LOCATION;VALUE=URI;X-ADDRESS=Wyalusing Public Library 115 Church St Wyalusing PA United States;X-APPLE-RADIUS=500;X-TITLE=115 Church St:geo:-76.261246,41.66728
END:VEVENT
BEGIN:VEVENT
DTSTART;TZID=America/New_York:20281222T100000
DTEND;TZID=America/New_York:20281222T110000
DTSTAMP:20260421T120407
CREATED:20260204T180302Z
LAST-MODIFIED:20260204T184003Z
UID:10001295-1861092000-1861095600@wyalusinglibrary.org
SUMMARY:Storytime
DESCRIPTION:
URL:https://wyalusinglibrary.org/event/storytime-91/2028-12-22/
LOCATION:Wyalusing Public Library\, 115 Church St\, Wyalusing\, PA\, United States
GEO:41.66728;-76.261246
X-APPLE-STRUCTURED-LOCATION;VALUE=URI;X-ADDRESS=Wyalusing Public Library 115 Church St Wyalusing PA United States;X-APPLE-RADIUS=500;X-TITLE=115 Church St:geo:-76.261246,41.66728
END:VEVENT
BEGIN:VEVENT
DTSTART;TZID=America/New_York:20281229T100000
DTEND;TZID=America/New_York:20281229T110000
DTSTAMP:20260421T120407
CREATED:20260204T180302Z
LAST-MODIFIED:20260204T184003Z
UID:10001297-1861696800-1861700400@wyalusinglibrary.org
SUMMARY:Storytime
DESCRIPTION:
URL:https://wyalusinglibrary.org/event/storytime-91/2028-12-29/
LOCATION:Wyalusing Public Library\, 115 Church St\, Wyalusing\, PA\, United States
GEO:41.66728;-76.261246
X-APPLE-STRUCTURED-LOCATION;VALUE=URI;X-ADDRESS=Wyalusing Public Library 115 Church St Wyalusing PA United States;X-APPLE-RADIUS=500;X-TITLE=115 Church St:geo:-76.261246,41.66728
END:VEVENT
BEGIN:VEVENT
DTSTART;TZID=America/New_York:20290105T100000
DTEND;TZID=America/New_York:20290105T110000
DTSTAMP:20260421T120407
CREATED:20260204T180302Z
LAST-MODIFIED:20260204T184003Z
UID:10001299-1862301600-1862305200@wyalusinglibrary.org
SUMMARY:Storytime
DESCRIPTION:
URL:https://wyalusinglibrary.org/event/storytime-91/2029-01-05/
LOCATION:Wyalusing Public Library\, 115 Church St\, Wyalusing\, PA\, United States
GEO:41.66728;-76.261246
X-APPLE-STRUCTURED-LOCATION;VALUE=URI;X-ADDRESS=Wyalusing Public Library 115 Church St Wyalusing PA United States;X-APPLE-RADIUS=500;X-TITLE=115 Church St:geo:-76.261246,41.66728
END:VEVENT
BEGIN:VEVENT
DTSTART;TZID=America/New_York:20290112T100000
DTEND;TZID=America/New_York:20290112T110000
DTSTAMP:20260421T120407
CREATED:20260204T180302Z
LAST-MODIFIED:20260204T184003Z
UID:10001301-1862906400-1862910000@wyalusinglibrary.org
SUMMARY:Storytime
DESCRIPTION:
URL:https://wyalusinglibrary.org/event/storytime-91/2029-01-12/
LOCATION:Wyalusing Public Library\, 115 Church St\, Wyalusing\, PA\, United States
GEO:41.66728;-76.261246
X-APPLE-STRUCTURED-LOCATION;VALUE=URI;X-ADDRESS=Wyalusing Public Library 115 Church St Wyalusing PA United States;X-APPLE-RADIUS=500;X-TITLE=115 Church St:geo:-76.261246,41.66728
END:VEVENT
BEGIN:VEVENT
DTSTART;TZID=America/New_York:20290119T100000
DTEND;TZID=America/New_York:20290119T110000
DTSTAMP:20260421T120407
CREATED:20260204T180302Z
LAST-MODIFIED:20260204T184003Z
UID:10001303-1863511200-1863514800@wyalusinglibrary.org
SUMMARY:Storytime
DESCRIPTION:
URL:https://wyalusinglibrary.org/event/storytime-91/2029-01-19/
LOCATION:Wyalusing Public Library\, 115 Church St\, Wyalusing\, PA\, United States
GEO:41.66728;-76.261246
X-APPLE-STRUCTURED-LOCATION;VALUE=URI;X-ADDRESS=Wyalusing Public Library 115 Church St Wyalusing PA United States;X-APPLE-RADIUS=500;X-TITLE=115 Church St:geo:-76.261246,41.66728
END:VEVENT
BEGIN:VEVENT
DTSTART;TZID=America/New_York:20290126T100000
DTEND;TZID=America/New_York:20290126T110000
DTSTAMP:20260421T120407
CREATED:20260204T180302Z
LAST-MODIFIED:20260204T184003Z
UID:10001305-1864116000-1864119600@wyalusinglibrary.org
SUMMARY:Storytime
DESCRIPTION:
URL:https://wyalusinglibrary.org/event/storytime-91/2029-01-26/
LOCATION:Wyalusing Public Library\, 115 Church St\, Wyalusing\, PA\, United States
GEO:41.66728;-76.261246
X-APPLE-STRUCTURED-LOCATION;VALUE=URI;X-ADDRESS=Wyalusing Public Library 115 Church St Wyalusing PA United States;X-APPLE-RADIUS=500;X-TITLE=115 Church St:geo:-76.261246,41.66728
END:VEVENT
BEGIN:VEVENT
DTSTART;TZID=America/New_York:20290202T100000
DTEND;TZID=America/New_York:20290202T110000
DTSTAMP:20260421T120407
CREATED:20260204T180302Z
LAST-MODIFIED:20260204T184003Z
UID:10001307-1864720800-1864724400@wyalusinglibrary.org
SUMMARY:Storytime
DESCRIPTION:
URL:https://wyalusinglibrary.org/event/storytime-91/2029-02-02/
LOCATION:Wyalusing Public Library\, 115 Church St\, Wyalusing\, PA\, United States
GEO:41.66728;-76.261246
X-APPLE-STRUCTURED-LOCATION;VALUE=URI;X-ADDRESS=Wyalusing Public Library 115 Church St Wyalusing PA United States;X-APPLE-RADIUS=500;X-TITLE=115 Church St:geo:-76.261246,41.66728
END:VEVENT
BEGIN:VEVENT
DTSTART;TZID=America/New_York:20290209T100000
DTEND;TZID=America/New_York:20290209T110000
DTSTAMP:20260421T120407
CREATED:20260204T180302Z
LAST-MODIFIED:20260204T184003Z
UID:10001309-1865325600-1865329200@wyalusinglibrary.org
SUMMARY:Storytime
DESCRIPTION:
URL:https://wyalusinglibrary.org/event/storytime-91/2029-02-09/
LOCATION:Wyalusing Public Library\, 115 Church St\, Wyalusing\, PA\, United States
GEO:41.66728;-76.261246
X-APPLE-STRUCTURED-LOCATION;VALUE=URI;X-ADDRESS=Wyalusing Public Library 115 Church St Wyalusing PA United States;X-APPLE-RADIUS=500;X-TITLE=115 Church St:geo:-76.261246,41.66728
END:VEVENT
BEGIN:VEVENT
DTSTART;TZID=America/New_York:20290216T100000
DTEND;TZID=America/New_York:20290216T110000
DTSTAMP:20260421T120407
CREATED:20260204T180302Z
LAST-MODIFIED:20260204T184003Z
UID:10001311-1865930400-1865934000@wyalusinglibrary.org
SUMMARY:Storytime
DESCRIPTION:
URL:https://wyalusinglibrary.org/event/storytime-91/2029-02-16/
LOCATION:Wyalusing Public Library\, 115 Church St\, Wyalusing\, PA\, United States
GEO:41.66728;-76.261246
X-APPLE-STRUCTURED-LOCATION;VALUE=URI;X-ADDRESS=Wyalusing Public Library 115 Church St Wyalusing PA United States;X-APPLE-RADIUS=500;X-TITLE=115 Church St:geo:-76.261246,41.66728
END:VEVENT
BEGIN:VEVENT
DTSTART;TZID=America/New_York:20290223T100000
DTEND;TZID=America/New_York:20290223T110000
DTSTAMP:20260421T120407
CREATED:20260204T180302Z
LAST-MODIFIED:20260204T184003Z
UID:10001313-1866535200-1866538800@wyalusinglibrary.org
SUMMARY:Storytime
DESCRIPTION:
URL:https://wyalusinglibrary.org/event/storytime-91/2029-02-23/
LOCATION:Wyalusing Public Library\, 115 Church St\, Wyalusing\, PA\, United States
GEO:41.66728;-76.261246
X-APPLE-STRUCTURED-LOCATION;VALUE=URI;X-ADDRESS=Wyalusing Public Library 115 Church St Wyalusing PA United States;X-APPLE-RADIUS=500;X-TITLE=115 Church St:geo:-76.261246,41.66728
END:VEVENT
BEGIN:VEVENT
DTSTART;TZID=America/New_York:20290302T100000
DTEND;TZID=America/New_York:20290302T110000
DTSTAMP:20260421T120407
CREATED:20260204T180302Z
LAST-MODIFIED:20260204T184003Z
UID:10001315-1867140000-1867143600@wyalusinglibrary.org
SUMMARY:Storytime
DESCRIPTION:
URL:https://wyalusinglibrary.org/event/storytime-91/2029-03-02/
LOCATION:Wyalusing Public Library\, 115 Church St\, Wyalusing\, PA\, United States
GEO:41.66728;-76.261246
X-APPLE-STRUCTURED-LOCATION;VALUE=URI;X-ADDRESS=Wyalusing Public Library 115 Church St Wyalusing PA United States;X-APPLE-RADIUS=500;X-TITLE=115 Church St:geo:-76.261246,41.66728
END:VEVENT
BEGIN:VEVENT
DTSTART;TZID=America/New_York:20290309T100000
DTEND;TZID=America/New_York:20290309T110000
DTSTAMP:20260421T120407
CREATED:20260204T180302Z
LAST-MODIFIED:20260204T184003Z
UID:10001317-1867744800-1867748400@wyalusinglibrary.org
SUMMARY:Storytime
DESCRIPTION:
URL:https://wyalusinglibrary.org/event/storytime-91/2029-03-09/
LOCATION:Wyalusing Public Library\, 115 Church St\, Wyalusing\, PA\, United States
GEO:41.66728;-76.261246
X-APPLE-STRUCTURED-LOCATION;VALUE=URI;X-ADDRESS=Wyalusing Public Library 115 Church St Wyalusing PA United States;X-APPLE-RADIUS=500;X-TITLE=115 Church St:geo:-76.261246,41.66728
END:VEVENT
BEGIN:VEVENT
DTSTART;TZID=America/New_York:20290316T100000
DTEND;TZID=America/New_York:20290316T110000
DTSTAMP:20260421T120407
CREATED:20260204T180302Z
LAST-MODIFIED:20260204T184003Z
UID:10001319-1868349600-1868353200@wyalusinglibrary.org
SUMMARY:Storytime
DESCRIPTION:
URL:https://wyalusinglibrary.org/event/storytime-91/2029-03-16/
LOCATION:Wyalusing Public Library\, 115 Church St\, Wyalusing\, PA\, United States
GEO:41.66728;-76.261246
X-APPLE-STRUCTURED-LOCATION;VALUE=URI;X-ADDRESS=Wyalusing Public Library 115 Church St Wyalusing PA United States;X-APPLE-RADIUS=500;X-TITLE=115 Church St:geo:-76.261246,41.66728
END:VEVENT
BEGIN:VEVENT
DTSTART;TZID=America/New_York:20290323T100000
DTEND;TZID=America/New_York:20290323T110000
DTSTAMP:20260421T120407
CREATED:20260204T180302Z
LAST-MODIFIED:20260204T184003Z
UID:10001321-1868954400-1868958000@wyalusinglibrary.org
SUMMARY:Storytime
DESCRIPTION:
URL:https://wyalusinglibrary.org/event/storytime-91/2029-03-23/
LOCATION:Wyalusing Public Library\, 115 Church St\, Wyalusing\, PA\, United States
GEO:41.66728;-76.261246
X-APPLE-STRUCTURED-LOCATION;VALUE=URI;X-ADDRESS=Wyalusing Public Library 115 Church St Wyalusing PA United States;X-APPLE-RADIUS=500;X-TITLE=115 Church St:geo:-76.261246,41.66728
END:VEVENT
BEGIN:VEVENT
DTSTART;TZID=America/New_York:20290330T100000
DTEND;TZID=America/New_York:20290330T110000
DTSTAMP:20260421T120407
CREATED:20260204T180302Z
LAST-MODIFIED:20260204T184003Z
UID:10001323-1869559200-1869562800@wyalusinglibrary.org
SUMMARY:Storytime
DESCRIPTION:
URL:https://wyalusinglibrary.org/event/storytime-91/2029-03-30/
LOCATION:Wyalusing Public Library\, 115 Church St\, Wyalusing\, PA\, United States
GEO:41.66728;-76.261246
X-APPLE-STRUCTURED-LOCATION;VALUE=URI;X-ADDRESS=Wyalusing Public Library 115 Church St Wyalusing PA United States;X-APPLE-RADIUS=500;X-TITLE=115 Church St:geo:-76.261246,41.66728
END:VEVENT
BEGIN:VEVENT
DTSTART;TZID=America/New_York:20290406T100000
DTEND;TZID=America/New_York:20290406T110000
DTSTAMP:20260421T120407
CREATED:20260204T180302Z
LAST-MODIFIED:20260204T184003Z
UID:10001325-1870164000-1870167600@wyalusinglibrary.org
SUMMARY:Storytime
DESCRIPTION:
URL:https://wyalusinglibrary.org/event/storytime-91/2029-04-06/
LOCATION:Wyalusing Public Library\, 115 Church St\, Wyalusing\, PA\, United States
GEO:41.66728;-76.261246
X-APPLE-STRUCTURED-LOCATION;VALUE=URI;X-ADDRESS=Wyalusing Public Library 115 Church St Wyalusing PA United States;X-APPLE-RADIUS=500;X-TITLE=115 Church St:geo:-76.261246,41.66728
END:VEVENT
BEGIN:VEVENT
DTSTART;TZID=America/New_York:20290413T100000
DTEND;TZID=America/New_York:20290413T110000
DTSTAMP:20260421T120407
CREATED:20260204T180302Z
LAST-MODIFIED:20260204T184003Z
UID:10001327-1870768800-1870772400@wyalusinglibrary.org
SUMMARY:Storytime
DESCRIPTION:
URL:https://wyalusinglibrary.org/event/storytime-91/2029-04-13/
LOCATION:Wyalusing Public Library\, 115 Church St\, Wyalusing\, PA\, United States
GEO:41.66728;-76.261246
X-APPLE-STRUCTURED-LOCATION;VALUE=URI;X-ADDRESS=Wyalusing Public Library 115 Church St Wyalusing PA United States;X-APPLE-RADIUS=500;X-TITLE=115 Church St:geo:-76.261246,41.66728
END:VEVENT
BEGIN:VEVENT
DTSTART;TZID=America/New_York:20290420T100000
DTEND;TZID=America/New_York:20290420T110000
DTSTAMP:20260421T120407
CREATED:20260204T180302Z
LAST-MODIFIED:20260204T184003Z
UID:10001329-1871373600-1871377200@wyalusinglibrary.org
SUMMARY:Storytime
DESCRIPTION:
URL:https://wyalusinglibrary.org/event/storytime-91/2029-04-20/
LOCATION:Wyalusing Public Library\, 115 Church St\, Wyalusing\, PA\, United States
GEO:41.66728;-76.261246
X-APPLE-STRUCTURED-LOCATION;VALUE=URI;X-ADDRESS=Wyalusing Public Library 115 Church St Wyalusing PA United States;X-APPLE-RADIUS=500;X-TITLE=115 Church St:geo:-76.261246,41.66728
END:VEVENT
BEGIN:VEVENT
DTSTART;TZID=America/New_York:20290427T100000
DTEND;TZID=America/New_York:20290427T110000
DTSTAMP:20260421T120407
CREATED:20260204T180302Z
LAST-MODIFIED:20260204T184003Z
UID:10001331-1871978400-1871982000@wyalusinglibrary.org
SUMMARY:Storytime
DESCRIPTION:
URL:https://wyalusinglibrary.org/event/storytime-91/2029-04-27/
LOCATION:Wyalusing Public Library\, 115 Church St\, Wyalusing\, PA\, United States
GEO:41.66728;-76.261246
X-APPLE-STRUCTURED-LOCATION;VALUE=URI;X-ADDRESS=Wyalusing Public Library 115 Church St Wyalusing PA United States;X-APPLE-RADIUS=500;X-TITLE=115 Church St:geo:-76.261246,41.66728
END:VEVENT
BEGIN:VEVENT
DTSTART;TZID=America/New_York:20290504T100000
DTEND;TZID=America/New_York:20290504T110000
DTSTAMP:20260421T120407
CREATED:20260204T180302Z
LAST-MODIFIED:20260204T184003Z
UID:10001333-1872583200-1872586800@wyalusinglibrary.org
SUMMARY:Storytime
DESCRIPTION:
URL:https://wyalusinglibrary.org/event/storytime-91/2029-05-04/
LOCATION:Wyalusing Public Library\, 115 Church St\, Wyalusing\, PA\, United States
GEO:41.66728;-76.261246
X-APPLE-STRUCTURED-LOCATION;VALUE=URI;X-ADDRESS=Wyalusing Public Library 115 Church St Wyalusing PA United States;X-APPLE-RADIUS=500;X-TITLE=115 Church St:geo:-76.261246,41.66728
END:VEVENT
BEGIN:VEVENT
DTSTART;TZID=America/New_York:20290511T100000
DTEND;TZID=America/New_York:20290511T110000
DTSTAMP:20260421T120407
CREATED:20260204T180302Z
LAST-MODIFIED:20260204T184003Z
UID:10001335-1873188000-1873191600@wyalusinglibrary.org
SUMMARY:Storytime
DESCRIPTION:
URL:https://wyalusinglibrary.org/event/storytime-91/2029-05-11/
LOCATION:Wyalusing Public Library\, 115 Church St\, Wyalusing\, PA\, United States
GEO:41.66728;-76.261246
X-APPLE-STRUCTURED-LOCATION;VALUE=URI;X-ADDRESS=Wyalusing Public Library 115 Church St Wyalusing PA United States;X-APPLE-RADIUS=500;X-TITLE=115 Church St:geo:-76.261246,41.66728
END:VEVENT
BEGIN:VEVENT
DTSTART;TZID=America/New_York:20290518T100000
DTEND;TZID=America/New_York:20290518T110000
DTSTAMP:20260421T120407
CREATED:20260204T180302Z
LAST-MODIFIED:20260204T184003Z
UID:10001337-1873792800-1873796400@wyalusinglibrary.org
SUMMARY:Storytime
DESCRIPTION:
URL:https://wyalusinglibrary.org/event/storytime-91/2029-05-18/
LOCATION:Wyalusing Public Library\, 115 Church St\, Wyalusing\, PA\, United States
GEO:41.66728;-76.261246
X-APPLE-STRUCTURED-LOCATION;VALUE=URI;X-ADDRESS=Wyalusing Public Library 115 Church St Wyalusing PA United States;X-APPLE-RADIUS=500;X-TITLE=115 Church St:geo:-76.261246,41.66728
END:VEVENT
END:VCALENDAR