BEGIN:VCALENDAR
VERSION:2.0
PRODID:-//Wyalusing Public Library - ECPv6.15.13//NONSGML v1.0//EN
CALSCALE:GREGORIAN
METHOD:PUBLISH
X-WR-CALNAME:Wyalusing Public Library
X-ORIGINAL-URL:https://wyalusinglibrary.org
X-WR-CALDESC:Events for Wyalusing Public Library
REFRESH-INTERVAL;VALUE=DURATION:PT1H
X-Robots-Tag:noindex
X-PUBLISHED-TTL:PT1H
BEGIN:VTIMEZONE
TZID:America/New_York
BEGIN:DAYLIGHT
TZOFFSETFROM:-0500
TZOFFSETTO:-0400
TZNAME:EDT
DTSTART:20280312T070000
END:DAYLIGHT
BEGIN:STANDARD
TZOFFSETFROM:-0400
TZOFFSETTO:-0500
TZNAME:EST
DTSTART:20281105T060000
END:STANDARD
BEGIN:DAYLIGHT
TZOFFSETFROM:-0500
TZOFFSETTO:-0400
TZNAME:EDT
DTSTART:20290311T070000
END:DAYLIGHT
BEGIN:STANDARD
TZOFFSETFROM:-0400
TZOFFSETTO:-0500
TZNAME:EST
DTSTART:20291104T060000
END:STANDARD
BEGIN:DAYLIGHT
TZOFFSETFROM:-0500
TZOFFSETTO:-0400
TZNAME:EDT
DTSTART:20300310T070000
END:DAYLIGHT
BEGIN:STANDARD
TZOFFSETFROM:-0400
TZOFFSETTO:-0500
TZNAME:EST
DTSTART:20301103T060000
END:STANDARD
END:VTIMEZONE
BEGIN:VEVENT
DTSTART;TZID=America/New_York:20290413T100000
DTEND;TZID=America/New_York:20290413T110000
DTSTAMP:20260421T152213
CREATED:20260204T180302Z
LAST-MODIFIED:20260204T184003Z
UID:10001327-1870768800-1870772400@wyalusinglibrary.org
SUMMARY:Storytime
DESCRIPTION:
URL:https://wyalusinglibrary.org/event/storytime-91/2029-04-13/
LOCATION:Wyalusing Public Library\, 115 Church St\, Wyalusing\, PA\, United States
GEO:41.66728;-76.261246
X-APPLE-STRUCTURED-LOCATION;VALUE=URI;X-ADDRESS=Wyalusing Public Library 115 Church St Wyalusing PA United States;X-APPLE-RADIUS=500;X-TITLE=115 Church St:geo:-76.261246,41.66728
END:VEVENT
BEGIN:VEVENT
DTSTART;TZID=America/New_York:20290420T100000
DTEND;TZID=America/New_York:20290420T110000
DTSTAMP:20260421T152213
CREATED:20260204T180302Z
LAST-MODIFIED:20260204T184003Z
UID:10001329-1871373600-1871377200@wyalusinglibrary.org
SUMMARY:Storytime
DESCRIPTION:
URL:https://wyalusinglibrary.org/event/storytime-91/2029-04-20/
LOCATION:Wyalusing Public Library\, 115 Church St\, Wyalusing\, PA\, United States
GEO:41.66728;-76.261246
X-APPLE-STRUCTURED-LOCATION;VALUE=URI;X-ADDRESS=Wyalusing Public Library 115 Church St Wyalusing PA United States;X-APPLE-RADIUS=500;X-TITLE=115 Church St:geo:-76.261246,41.66728
END:VEVENT
BEGIN:VEVENT
DTSTART;TZID=America/New_York:20290427T100000
DTEND;TZID=America/New_York:20290427T110000
DTSTAMP:20260421T152213
CREATED:20260204T180302Z
LAST-MODIFIED:20260204T184003Z
UID:10001331-1871978400-1871982000@wyalusinglibrary.org
SUMMARY:Storytime
DESCRIPTION:
URL:https://wyalusinglibrary.org/event/storytime-91/2029-04-27/
LOCATION:Wyalusing Public Library\, 115 Church St\, Wyalusing\, PA\, United States
GEO:41.66728;-76.261246
X-APPLE-STRUCTURED-LOCATION;VALUE=URI;X-ADDRESS=Wyalusing Public Library 115 Church St Wyalusing PA United States;X-APPLE-RADIUS=500;X-TITLE=115 Church St:geo:-76.261246,41.66728
END:VEVENT
BEGIN:VEVENT
DTSTART;TZID=America/New_York:20290504T100000
DTEND;TZID=America/New_York:20290504T110000
DTSTAMP:20260421T152213
CREATED:20260204T180302Z
LAST-MODIFIED:20260204T184003Z
UID:10001333-1872583200-1872586800@wyalusinglibrary.org
SUMMARY:Storytime
DESCRIPTION:
URL:https://wyalusinglibrary.org/event/storytime-91/2029-05-04/
LOCATION:Wyalusing Public Library\, 115 Church St\, Wyalusing\, PA\, United States
GEO:41.66728;-76.261246
X-APPLE-STRUCTURED-LOCATION;VALUE=URI;X-ADDRESS=Wyalusing Public Library 115 Church St Wyalusing PA United States;X-APPLE-RADIUS=500;X-TITLE=115 Church St:geo:-76.261246,41.66728
END:VEVENT
BEGIN:VEVENT
DTSTART;TZID=America/New_York:20290511T100000
DTEND;TZID=America/New_York:20290511T110000
DTSTAMP:20260421T152213
CREATED:20260204T180302Z
LAST-MODIFIED:20260204T184003Z
UID:10001335-1873188000-1873191600@wyalusinglibrary.org
SUMMARY:Storytime
DESCRIPTION:
URL:https://wyalusinglibrary.org/event/storytime-91/2029-05-11/
LOCATION:Wyalusing Public Library\, 115 Church St\, Wyalusing\, PA\, United States
GEO:41.66728;-76.261246
X-APPLE-STRUCTURED-LOCATION;VALUE=URI;X-ADDRESS=Wyalusing Public Library 115 Church St Wyalusing PA United States;X-APPLE-RADIUS=500;X-TITLE=115 Church St:geo:-76.261246,41.66728
END:VEVENT
BEGIN:VEVENT
DTSTART;TZID=America/New_York:20290518T100000
DTEND;TZID=America/New_York:20290518T110000
DTSTAMP:20260421T152213
CREATED:20260204T180302Z
LAST-MODIFIED:20260204T184003Z
UID:10001337-1873792800-1873796400@wyalusinglibrary.org
SUMMARY:Storytime
DESCRIPTION:
URL:https://wyalusinglibrary.org/event/storytime-91/2029-05-18/
LOCATION:Wyalusing Public Library\, 115 Church St\, Wyalusing\, PA\, United States
GEO:41.66728;-76.261246
X-APPLE-STRUCTURED-LOCATION;VALUE=URI;X-ADDRESS=Wyalusing Public Library 115 Church St Wyalusing PA United States;X-APPLE-RADIUS=500;X-TITLE=115 Church St:geo:-76.261246,41.66728
END:VEVENT
BEGIN:VEVENT
DTSTART;TZID=America/New_York:20290525T100000
DTEND;TZID=America/New_York:20290525T110000
DTSTAMP:20260421T152213
CREATED:20260204T180302Z
LAST-MODIFIED:20260204T184003Z
UID:10001339-1874397600-1874401200@wyalusinglibrary.org
SUMMARY:Storytime
DESCRIPTION:
URL:https://wyalusinglibrary.org/event/storytime-91/2029-05-25/
LOCATION:Wyalusing Public Library\, 115 Church St\, Wyalusing\, PA\, United States
GEO:41.66728;-76.261246
X-APPLE-STRUCTURED-LOCATION;VALUE=URI;X-ADDRESS=Wyalusing Public Library 115 Church St Wyalusing PA United States;X-APPLE-RADIUS=500;X-TITLE=115 Church St:geo:-76.261246,41.66728
END:VEVENT
BEGIN:VEVENT
DTSTART;TZID=America/New_York:20290601T100000
DTEND;TZID=America/New_York:20290601T110000
DTSTAMP:20260421T152213
CREATED:20260204T180302Z
LAST-MODIFIED:20260204T184003Z
UID:10001341-1875002400-1875006000@wyalusinglibrary.org
SUMMARY:Storytime
DESCRIPTION:
URL:https://wyalusinglibrary.org/event/storytime-91/2029-06-01/
LOCATION:Wyalusing Public Library\, 115 Church St\, Wyalusing\, PA\, United States
GEO:41.66728;-76.261246
X-APPLE-STRUCTURED-LOCATION;VALUE=URI;X-ADDRESS=Wyalusing Public Library 115 Church St Wyalusing PA United States;X-APPLE-RADIUS=500;X-TITLE=115 Church St:geo:-76.261246,41.66728
END:VEVENT
BEGIN:VEVENT
DTSTART;TZID=America/New_York:20290608T100000
DTEND;TZID=America/New_York:20290608T110000
DTSTAMP:20260421T152213
CREATED:20260204T180302Z
LAST-MODIFIED:20260204T184003Z
UID:10001343-1875607200-1875610800@wyalusinglibrary.org
SUMMARY:Storytime
DESCRIPTION:
URL:https://wyalusinglibrary.org/event/storytime-91/2029-06-08/
LOCATION:Wyalusing Public Library\, 115 Church St\, Wyalusing\, PA\, United States
GEO:41.66728;-76.261246
X-APPLE-STRUCTURED-LOCATION;VALUE=URI;X-ADDRESS=Wyalusing Public Library 115 Church St Wyalusing PA United States;X-APPLE-RADIUS=500;X-TITLE=115 Church St:geo:-76.261246,41.66728
END:VEVENT
BEGIN:VEVENT
DTSTART;TZID=America/New_York:20290615T100000
DTEND;TZID=America/New_York:20290615T110000
DTSTAMP:20260421T152213
CREATED:20260204T180302Z
LAST-MODIFIED:20260204T184003Z
UID:10001345-1876212000-1876215600@wyalusinglibrary.org
SUMMARY:Storytime
DESCRIPTION:
URL:https://wyalusinglibrary.org/event/storytime-91/2029-06-15/
LOCATION:Wyalusing Public Library\, 115 Church St\, Wyalusing\, PA\, United States
GEO:41.66728;-76.261246
X-APPLE-STRUCTURED-LOCATION;VALUE=URI;X-ADDRESS=Wyalusing Public Library 115 Church St Wyalusing PA United States;X-APPLE-RADIUS=500;X-TITLE=115 Church St:geo:-76.261246,41.66728
END:VEVENT
BEGIN:VEVENT
DTSTART;TZID=America/New_York:20290622T100000
DTEND;TZID=America/New_York:20290622T110000
DTSTAMP:20260421T152213
CREATED:20260204T180302Z
LAST-MODIFIED:20260204T184003Z
UID:10001347-1876816800-1876820400@wyalusinglibrary.org
SUMMARY:Storytime
DESCRIPTION:
URL:https://wyalusinglibrary.org/event/storytime-91/2029-06-22/
LOCATION:Wyalusing Public Library\, 115 Church St\, Wyalusing\, PA\, United States
GEO:41.66728;-76.261246
X-APPLE-STRUCTURED-LOCATION;VALUE=URI;X-ADDRESS=Wyalusing Public Library 115 Church St Wyalusing PA United States;X-APPLE-RADIUS=500;X-TITLE=115 Church St:geo:-76.261246,41.66728
END:VEVENT
BEGIN:VEVENT
DTSTART;TZID=America/New_York:20290629T100000
DTEND;TZID=America/New_York:20290629T110000
DTSTAMP:20260421T152213
CREATED:20260204T180302Z
LAST-MODIFIED:20260204T184003Z
UID:10001349-1877421600-1877425200@wyalusinglibrary.org
SUMMARY:Storytime
DESCRIPTION:
URL:https://wyalusinglibrary.org/event/storytime-91/2029-06-29/
LOCATION:Wyalusing Public Library\, 115 Church St\, Wyalusing\, PA\, United States
GEO:41.66728;-76.261246
X-APPLE-STRUCTURED-LOCATION;VALUE=URI;X-ADDRESS=Wyalusing Public Library 115 Church St Wyalusing PA United States;X-APPLE-RADIUS=500;X-TITLE=115 Church St:geo:-76.261246,41.66728
END:VEVENT
BEGIN:VEVENT
DTSTART;TZID=America/New_York:20290706T100000
DTEND;TZID=America/New_York:20290706T110000
DTSTAMP:20260421T152213
CREATED:20260204T180302Z
LAST-MODIFIED:20260204T184003Z
UID:10001351-1878026400-1878030000@wyalusinglibrary.org
SUMMARY:Storytime
DESCRIPTION:
URL:https://wyalusinglibrary.org/event/storytime-91/2029-07-06/
LOCATION:Wyalusing Public Library\, 115 Church St\, Wyalusing\, PA\, United States
GEO:41.66728;-76.261246
X-APPLE-STRUCTURED-LOCATION;VALUE=URI;X-ADDRESS=Wyalusing Public Library 115 Church St Wyalusing PA United States;X-APPLE-RADIUS=500;X-TITLE=115 Church St:geo:-76.261246,41.66728
END:VEVENT
BEGIN:VEVENT
DTSTART;TZID=America/New_York:20290713T100000
DTEND;TZID=America/New_York:20290713T110000
DTSTAMP:20260421T152213
CREATED:20260204T180302Z
LAST-MODIFIED:20260204T184003Z
UID:10001353-1878631200-1878634800@wyalusinglibrary.org
SUMMARY:Storytime
DESCRIPTION:
URL:https://wyalusinglibrary.org/event/storytime-91/2029-07-13/
LOCATION:Wyalusing Public Library\, 115 Church St\, Wyalusing\, PA\, United States
GEO:41.66728;-76.261246
X-APPLE-STRUCTURED-LOCATION;VALUE=URI;X-ADDRESS=Wyalusing Public Library 115 Church St Wyalusing PA United States;X-APPLE-RADIUS=500;X-TITLE=115 Church St:geo:-76.261246,41.66728
END:VEVENT
BEGIN:VEVENT
DTSTART;TZID=America/New_York:20290720T100000
DTEND;TZID=America/New_York:20290720T110000
DTSTAMP:20260421T152213
CREATED:20260204T180302Z
LAST-MODIFIED:20260204T184003Z
UID:10001355-1879236000-1879239600@wyalusinglibrary.org
SUMMARY:Storytime
DESCRIPTION:
URL:https://wyalusinglibrary.org/event/storytime-91/2029-07-20/
LOCATION:Wyalusing Public Library\, 115 Church St\, Wyalusing\, PA\, United States
GEO:41.66728;-76.261246
X-APPLE-STRUCTURED-LOCATION;VALUE=URI;X-ADDRESS=Wyalusing Public Library 115 Church St Wyalusing PA United States;X-APPLE-RADIUS=500;X-TITLE=115 Church St:geo:-76.261246,41.66728
END:VEVENT
BEGIN:VEVENT
DTSTART;TZID=America/New_York:20290727T100000
DTEND;TZID=America/New_York:20290727T110000
DTSTAMP:20260421T152213
CREATED:20260204T180302Z
LAST-MODIFIED:20260204T184003Z
UID:10001357-1879840800-1879844400@wyalusinglibrary.org
SUMMARY:Storytime
DESCRIPTION:
URL:https://wyalusinglibrary.org/event/storytime-91/2029-07-27/
LOCATION:Wyalusing Public Library\, 115 Church St\, Wyalusing\, PA\, United States
GEO:41.66728;-76.261246
X-APPLE-STRUCTURED-LOCATION;VALUE=URI;X-ADDRESS=Wyalusing Public Library 115 Church St Wyalusing PA United States;X-APPLE-RADIUS=500;X-TITLE=115 Church St:geo:-76.261246,41.66728
END:VEVENT
BEGIN:VEVENT
DTSTART;TZID=America/New_York:20290803T100000
DTEND;TZID=America/New_York:20290803T110000
DTSTAMP:20260421T152213
CREATED:20260204T180302Z
LAST-MODIFIED:20260204T184003Z
UID:10001359-1880445600-1880449200@wyalusinglibrary.org
SUMMARY:Storytime
DESCRIPTION:
URL:https://wyalusinglibrary.org/event/storytime-91/2029-08-03/
LOCATION:Wyalusing Public Library\, 115 Church St\, Wyalusing\, PA\, United States
GEO:41.66728;-76.261246
X-APPLE-STRUCTURED-LOCATION;VALUE=URI;X-ADDRESS=Wyalusing Public Library 115 Church St Wyalusing PA United States;X-APPLE-RADIUS=500;X-TITLE=115 Church St:geo:-76.261246,41.66728
END:VEVENT
BEGIN:VEVENT
DTSTART;TZID=America/New_York:20290810T100000
DTEND;TZID=America/New_York:20290810T110000
DTSTAMP:20260421T152213
CREATED:20260204T180302Z
LAST-MODIFIED:20260204T184003Z
UID:10001361-1881050400-1881054000@wyalusinglibrary.org
SUMMARY:Storytime
DESCRIPTION:
URL:https://wyalusinglibrary.org/event/storytime-91/2029-08-10/
LOCATION:Wyalusing Public Library\, 115 Church St\, Wyalusing\, PA\, United States
GEO:41.66728;-76.261246
X-APPLE-STRUCTURED-LOCATION;VALUE=URI;X-ADDRESS=Wyalusing Public Library 115 Church St Wyalusing PA United States;X-APPLE-RADIUS=500;X-TITLE=115 Church St:geo:-76.261246,41.66728
END:VEVENT
BEGIN:VEVENT
DTSTART;TZID=America/New_York:20290817T100000
DTEND;TZID=America/New_York:20290817T110000
DTSTAMP:20260421T152213
CREATED:20260204T180302Z
LAST-MODIFIED:20260204T184003Z
UID:10001363-1881655200-1881658800@wyalusinglibrary.org
SUMMARY:Storytime
DESCRIPTION:
URL:https://wyalusinglibrary.org/event/storytime-91/2029-08-17/
LOCATION:Wyalusing Public Library\, 115 Church St\, Wyalusing\, PA\, United States
GEO:41.66728;-76.261246
X-APPLE-STRUCTURED-LOCATION;VALUE=URI;X-ADDRESS=Wyalusing Public Library 115 Church St Wyalusing PA United States;X-APPLE-RADIUS=500;X-TITLE=115 Church St:geo:-76.261246,41.66728
END:VEVENT
BEGIN:VEVENT
DTSTART;TZID=America/New_York:20290824T100000
DTEND;TZID=America/New_York:20290824T110000
DTSTAMP:20260421T152213
CREATED:20260204T180302Z
LAST-MODIFIED:20260204T184003Z
UID:10001365-1882260000-1882263600@wyalusinglibrary.org
SUMMARY:Storytime
DESCRIPTION:
URL:https://wyalusinglibrary.org/event/storytime-91/2029-08-24/
LOCATION:Wyalusing Public Library\, 115 Church St\, Wyalusing\, PA\, United States
GEO:41.66728;-76.261246
X-APPLE-STRUCTURED-LOCATION;VALUE=URI;X-ADDRESS=Wyalusing Public Library 115 Church St Wyalusing PA United States;X-APPLE-RADIUS=500;X-TITLE=115 Church St:geo:-76.261246,41.66728
END:VEVENT
BEGIN:VEVENT
DTSTART;TZID=America/New_York:20290831T100000
DTEND;TZID=America/New_York:20290831T110000
DTSTAMP:20260421T152213
CREATED:20260204T180302Z
LAST-MODIFIED:20260204T184003Z
UID:10001367-1882864800-1882868400@wyalusinglibrary.org
SUMMARY:Storytime
DESCRIPTION:
URL:https://wyalusinglibrary.org/event/storytime-91/2029-08-31/
LOCATION:Wyalusing Public Library\, 115 Church St\, Wyalusing\, PA\, United States
GEO:41.66728;-76.261246
X-APPLE-STRUCTURED-LOCATION;VALUE=URI;X-ADDRESS=Wyalusing Public Library 115 Church St Wyalusing PA United States;X-APPLE-RADIUS=500;X-TITLE=115 Church St:geo:-76.261246,41.66728
END:VEVENT
BEGIN:VEVENT
DTSTART;TZID=America/New_York:20290907T100000
DTEND;TZID=America/New_York:20290907T110000
DTSTAMP:20260421T152213
CREATED:20260204T180302Z
LAST-MODIFIED:20260204T184003Z
UID:10001369-1883469600-1883473200@wyalusinglibrary.org
SUMMARY:Storytime
DESCRIPTION:
URL:https://wyalusinglibrary.org/event/storytime-91/2029-09-07/
LOCATION:Wyalusing Public Library\, 115 Church St\, Wyalusing\, PA\, United States
GEO:41.66728;-76.261246
X-APPLE-STRUCTURED-LOCATION;VALUE=URI;X-ADDRESS=Wyalusing Public Library 115 Church St Wyalusing PA United States;X-APPLE-RADIUS=500;X-TITLE=115 Church St:geo:-76.261246,41.66728
END:VEVENT
BEGIN:VEVENT
DTSTART;TZID=America/New_York:20290914T100000
DTEND;TZID=America/New_York:20290914T110000
DTSTAMP:20260421T152213
CREATED:20260204T180302Z
LAST-MODIFIED:20260204T184003Z
UID:10001371-1884074400-1884078000@wyalusinglibrary.org
SUMMARY:Storytime
DESCRIPTION:
URL:https://wyalusinglibrary.org/event/storytime-91/2029-09-14/
LOCATION:Wyalusing Public Library\, 115 Church St\, Wyalusing\, PA\, United States
GEO:41.66728;-76.261246
X-APPLE-STRUCTURED-LOCATION;VALUE=URI;X-ADDRESS=Wyalusing Public Library 115 Church St Wyalusing PA United States;X-APPLE-RADIUS=500;X-TITLE=115 Church St:geo:-76.261246,41.66728
END:VEVENT
BEGIN:VEVENT
DTSTART;TZID=America/New_York:20290921T100000
DTEND;TZID=America/New_York:20290921T110000
DTSTAMP:20260421T152213
CREATED:20260204T180302Z
LAST-MODIFIED:20260204T184003Z
UID:10001373-1884679200-1884682800@wyalusinglibrary.org
SUMMARY:Storytime
DESCRIPTION:
URL:https://wyalusinglibrary.org/event/storytime-91/2029-09-21/
LOCATION:Wyalusing Public Library\, 115 Church St\, Wyalusing\, PA\, United States
GEO:41.66728;-76.261246
X-APPLE-STRUCTURED-LOCATION;VALUE=URI;X-ADDRESS=Wyalusing Public Library 115 Church St Wyalusing PA United States;X-APPLE-RADIUS=500;X-TITLE=115 Church St:geo:-76.261246,41.66728
END:VEVENT
BEGIN:VEVENT
DTSTART;TZID=America/New_York:20290928T100000
DTEND;TZID=America/New_York:20290928T110000
DTSTAMP:20260421T152213
CREATED:20260204T180302Z
LAST-MODIFIED:20260204T184003Z
UID:10001375-1885284000-1885287600@wyalusinglibrary.org
SUMMARY:Storytime
DESCRIPTION:
URL:https://wyalusinglibrary.org/event/storytime-91/2029-09-28/
LOCATION:Wyalusing Public Library\, 115 Church St\, Wyalusing\, PA\, United States
GEO:41.66728;-76.261246
X-APPLE-STRUCTURED-LOCATION;VALUE=URI;X-ADDRESS=Wyalusing Public Library 115 Church St Wyalusing PA United States;X-APPLE-RADIUS=500;X-TITLE=115 Church St:geo:-76.261246,41.66728
END:VEVENT
BEGIN:VEVENT
DTSTART;TZID=America/New_York:20291005T100000
DTEND;TZID=America/New_York:20291005T110000
DTSTAMP:20260421T152213
CREATED:20260204T180302Z
LAST-MODIFIED:20260204T184003Z
UID:10001377-1885888800-1885892400@wyalusinglibrary.org
SUMMARY:Storytime
DESCRIPTION:
URL:https://wyalusinglibrary.org/event/storytime-91/2029-10-05/
LOCATION:Wyalusing Public Library\, 115 Church St\, Wyalusing\, PA\, United States
GEO:41.66728;-76.261246
X-APPLE-STRUCTURED-LOCATION;VALUE=URI;X-ADDRESS=Wyalusing Public Library 115 Church St Wyalusing PA United States;X-APPLE-RADIUS=500;X-TITLE=115 Church St:geo:-76.261246,41.66728
END:VEVENT
BEGIN:VEVENT
DTSTART;TZID=America/New_York:20291012T100000
DTEND;TZID=America/New_York:20291012T110000
DTSTAMP:20260421T152213
CREATED:20260204T180302Z
LAST-MODIFIED:20260204T184003Z
UID:10001379-1886493600-1886497200@wyalusinglibrary.org
SUMMARY:Storytime
DESCRIPTION:
URL:https://wyalusinglibrary.org/event/storytime-91/2029-10-12/
LOCATION:Wyalusing Public Library\, 115 Church St\, Wyalusing\, PA\, United States
GEO:41.66728;-76.261246
X-APPLE-STRUCTURED-LOCATION;VALUE=URI;X-ADDRESS=Wyalusing Public Library 115 Church St Wyalusing PA United States;X-APPLE-RADIUS=500;X-TITLE=115 Church St:geo:-76.261246,41.66728
END:VEVENT
BEGIN:VEVENT
DTSTART;TZID=America/New_York:20291019T100000
DTEND;TZID=America/New_York:20291019T110000
DTSTAMP:20260421T152213
CREATED:20260204T180302Z
LAST-MODIFIED:20260204T184003Z
UID:10001381-1887098400-1887102000@wyalusinglibrary.org
SUMMARY:Storytime
DESCRIPTION:
URL:https://wyalusinglibrary.org/event/storytime-91/2029-10-19/
LOCATION:Wyalusing Public Library\, 115 Church St\, Wyalusing\, PA\, United States
GEO:41.66728;-76.261246
X-APPLE-STRUCTURED-LOCATION;VALUE=URI;X-ADDRESS=Wyalusing Public Library 115 Church St Wyalusing PA United States;X-APPLE-RADIUS=500;X-TITLE=115 Church St:geo:-76.261246,41.66728
END:VEVENT
BEGIN:VEVENT
DTSTART;TZID=America/New_York:20291026T100000
DTEND;TZID=America/New_York:20291026T110000
DTSTAMP:20260421T152213
CREATED:20260204T180302Z
LAST-MODIFIED:20260204T184003Z
UID:10001383-1887703200-1887706800@wyalusinglibrary.org
SUMMARY:Storytime
DESCRIPTION:
URL:https://wyalusinglibrary.org/event/storytime-91/2029-10-26/
LOCATION:Wyalusing Public Library\, 115 Church St\, Wyalusing\, PA\, United States
GEO:41.66728;-76.261246
X-APPLE-STRUCTURED-LOCATION;VALUE=URI;X-ADDRESS=Wyalusing Public Library 115 Church St Wyalusing PA United States;X-APPLE-RADIUS=500;X-TITLE=115 Church St:geo:-76.261246,41.66728
END:VEVENT
BEGIN:VEVENT
DTSTART;TZID=America/New_York:20291102T100000
DTEND;TZID=America/New_York:20291102T110000
DTSTAMP:20260421T152213
CREATED:20260204T180302Z
LAST-MODIFIED:20260204T184003Z
UID:10001385-1888308000-1888311600@wyalusinglibrary.org
SUMMARY:Storytime
DESCRIPTION:
URL:https://wyalusinglibrary.org/event/storytime-91/2029-11-02/
LOCATION:Wyalusing Public Library\, 115 Church St\, Wyalusing\, PA\, United States
GEO:41.66728;-76.261246
X-APPLE-STRUCTURED-LOCATION;VALUE=URI;X-ADDRESS=Wyalusing Public Library 115 Church St Wyalusing PA United States;X-APPLE-RADIUS=500;X-TITLE=115 Church St:geo:-76.261246,41.66728
END:VEVENT
END:VCALENDAR