BEGIN:VCALENDAR
VERSION:2.0
PRODID:-//Wyalusing Public Library - ECPv6.15.13//NONSGML v1.0//EN
CALSCALE:GREGORIAN
METHOD:PUBLISH
X-ORIGINAL-URL:https://wyalusinglibrary.org
X-WR-CALDESC:Events for Wyalusing Public Library
REFRESH-INTERVAL;VALUE=DURATION:PT1H
X-Robots-Tag:noindex
X-PUBLISHED-TTL:PT1H
BEGIN:VTIMEZONE
TZID:America/New_York
BEGIN:DAYLIGHT
TZOFFSETFROM:-0500
TZOFFSETTO:-0400
TZNAME:EDT
DTSTART:20290311T070000
END:DAYLIGHT
BEGIN:STANDARD
TZOFFSETFROM:-0400
TZOFFSETTO:-0500
TZNAME:EST
DTSTART:20291104T060000
END:STANDARD
BEGIN:DAYLIGHT
TZOFFSETFROM:-0500
TZOFFSETTO:-0400
TZNAME:EDT
DTSTART:20300310T070000
END:DAYLIGHT
BEGIN:STANDARD
TZOFFSETFROM:-0400
TZOFFSETTO:-0500
TZNAME:EST
DTSTART:20301103T060000
END:STANDARD
BEGIN:DAYLIGHT
TZOFFSETFROM:-0500
TZOFFSETTO:-0400
TZNAME:EDT
DTSTART:20310309T070000
END:DAYLIGHT
BEGIN:STANDARD
TZOFFSETFROM:-0400
TZOFFSETTO:-0500
TZNAME:EST
DTSTART:20311102T060000
END:STANDARD
BEGIN:DAYLIGHT
TZOFFSETFROM:-0500
TZOFFSETTO:-0400
TZNAME:EDT
DTSTART:20320314T070000
END:DAYLIGHT
BEGIN:STANDARD
TZOFFSETFROM:-0400
TZOFFSETTO:-0500
TZNAME:EST
DTSTART:20321107T060000
END:STANDARD
END:VTIMEZONE
BEGIN:VEVENT
DTSTART;TZID=America/New_York:20300830T100000
DTEND;TZID=America/New_York:20300830T110000
DTSTAMP:20260422T024021
CREATED:20260204T180302Z
LAST-MODIFIED:20260204T184003Z
UID:10001471-1914314400-1914318000@wyalusinglibrary.org
SUMMARY:Storytime
DESCRIPTION:
URL:https://wyalusinglibrary.org/event/storytime-91/2030-08-30/
LOCATION:Wyalusing Public Library\, 115 Church St\, Wyalusing\, PA\, United States
GEO:41.66728;-76.261246
X-APPLE-STRUCTURED-LOCATION;VALUE=URI;X-ADDRESS=Wyalusing Public Library 115 Church St Wyalusing PA United States;X-APPLE-RADIUS=500;X-TITLE=115 Church St:geo:-76.261246,41.66728
END:VEVENT
BEGIN:VEVENT
DTSTART;TZID=America/New_York:20300906T100000
DTEND;TZID=America/New_York:20300906T110000
DTSTAMP:20260422T024021
CREATED:20260204T180302Z
LAST-MODIFIED:20260204T184003Z
UID:10001473-1914919200-1914922800@wyalusinglibrary.org
SUMMARY:Storytime
DESCRIPTION:
URL:https://wyalusinglibrary.org/event/storytime-91/2030-09-06/
LOCATION:Wyalusing Public Library\, 115 Church St\, Wyalusing\, PA\, United States
GEO:41.66728;-76.261246
X-APPLE-STRUCTURED-LOCATION;VALUE=URI;X-ADDRESS=Wyalusing Public Library 115 Church St Wyalusing PA United States;X-APPLE-RADIUS=500;X-TITLE=115 Church St:geo:-76.261246,41.66728
END:VEVENT
BEGIN:VEVENT
DTSTART;TZID=America/New_York:20300913T100000
DTEND;TZID=America/New_York:20300913T110000
DTSTAMP:20260422T024021
CREATED:20260204T180302Z
LAST-MODIFIED:20260204T184003Z
UID:10001475-1915524000-1915527600@wyalusinglibrary.org
SUMMARY:Storytime
DESCRIPTION:
URL:https://wyalusinglibrary.org/event/storytime-91/2030-09-13/
LOCATION:Wyalusing Public Library\, 115 Church St\, Wyalusing\, PA\, United States
GEO:41.66728;-76.261246
X-APPLE-STRUCTURED-LOCATION;VALUE=URI;X-ADDRESS=Wyalusing Public Library 115 Church St Wyalusing PA United States;X-APPLE-RADIUS=500;X-TITLE=115 Church St:geo:-76.261246,41.66728
END:VEVENT
BEGIN:VEVENT
DTSTART;TZID=America/New_York:20300920T100000
DTEND;TZID=America/New_York:20300920T110000
DTSTAMP:20260422T024021
CREATED:20260204T180302Z
LAST-MODIFIED:20260204T184003Z
UID:10001477-1916128800-1916132400@wyalusinglibrary.org
SUMMARY:Storytime
DESCRIPTION:
URL:https://wyalusinglibrary.org/event/storytime-91/2030-09-20/
LOCATION:Wyalusing Public Library\, 115 Church St\, Wyalusing\, PA\, United States
GEO:41.66728;-76.261246
X-APPLE-STRUCTURED-LOCATION;VALUE=URI;X-ADDRESS=Wyalusing Public Library 115 Church St Wyalusing PA United States;X-APPLE-RADIUS=500;X-TITLE=115 Church St:geo:-76.261246,41.66728
END:VEVENT
BEGIN:VEVENT
DTSTART;TZID=America/New_York:20300927T100000
DTEND;TZID=America/New_York:20300927T110000
DTSTAMP:20260422T024021
CREATED:20260204T180302Z
LAST-MODIFIED:20260204T184003Z
UID:10001479-1916733600-1916737200@wyalusinglibrary.org
SUMMARY:Storytime
DESCRIPTION:
URL:https://wyalusinglibrary.org/event/storytime-91/2030-09-27/
LOCATION:Wyalusing Public Library\, 115 Church St\, Wyalusing\, PA\, United States
GEO:41.66728;-76.261246
X-APPLE-STRUCTURED-LOCATION;VALUE=URI;X-ADDRESS=Wyalusing Public Library 115 Church St Wyalusing PA United States;X-APPLE-RADIUS=500;X-TITLE=115 Church St:geo:-76.261246,41.66728
END:VEVENT
BEGIN:VEVENT
DTSTART;TZID=America/New_York:20301004T100000
DTEND;TZID=America/New_York:20301004T110000
DTSTAMP:20260422T024021
CREATED:20260204T180302Z
LAST-MODIFIED:20260204T184003Z
UID:10001481-1917338400-1917342000@wyalusinglibrary.org
SUMMARY:Storytime
DESCRIPTION:
URL:https://wyalusinglibrary.org/event/storytime-91/2030-10-04/
LOCATION:Wyalusing Public Library\, 115 Church St\, Wyalusing\, PA\, United States
GEO:41.66728;-76.261246
X-APPLE-STRUCTURED-LOCATION;VALUE=URI;X-ADDRESS=Wyalusing Public Library 115 Church St Wyalusing PA United States;X-APPLE-RADIUS=500;X-TITLE=115 Church St:geo:-76.261246,41.66728
END:VEVENT
BEGIN:VEVENT
DTSTART;TZID=America/New_York:20301011T100000
DTEND;TZID=America/New_York:20301011T110000
DTSTAMP:20260422T024021
CREATED:20260204T180302Z
LAST-MODIFIED:20260204T184003Z
UID:10001483-1917943200-1917946800@wyalusinglibrary.org
SUMMARY:Storytime
DESCRIPTION:
URL:https://wyalusinglibrary.org/event/storytime-91/2030-10-11/
LOCATION:Wyalusing Public Library\, 115 Church St\, Wyalusing\, PA\, United States
GEO:41.66728;-76.261246
X-APPLE-STRUCTURED-LOCATION;VALUE=URI;X-ADDRESS=Wyalusing Public Library 115 Church St Wyalusing PA United States;X-APPLE-RADIUS=500;X-TITLE=115 Church St:geo:-76.261246,41.66728
END:VEVENT
BEGIN:VEVENT
DTSTART;TZID=America/New_York:20301018T100000
DTEND;TZID=America/New_York:20301018T110000
DTSTAMP:20260422T024021
CREATED:20260204T180302Z
LAST-MODIFIED:20260204T184003Z
UID:10001485-1918548000-1918551600@wyalusinglibrary.org
SUMMARY:Storytime
DESCRIPTION:
URL:https://wyalusinglibrary.org/event/storytime-91/2030-10-18/
LOCATION:Wyalusing Public Library\, 115 Church St\, Wyalusing\, PA\, United States
GEO:41.66728;-76.261246
X-APPLE-STRUCTURED-LOCATION;VALUE=URI;X-ADDRESS=Wyalusing Public Library 115 Church St Wyalusing PA United States;X-APPLE-RADIUS=500;X-TITLE=115 Church St:geo:-76.261246,41.66728
END:VEVENT
BEGIN:VEVENT
DTSTART;TZID=America/New_York:20301025T100000
DTEND;TZID=America/New_York:20301025T110000
DTSTAMP:20260422T024021
CREATED:20260204T180302Z
LAST-MODIFIED:20260204T184003Z
UID:10001487-1919152800-1919156400@wyalusinglibrary.org
SUMMARY:Storytime
DESCRIPTION:
URL:https://wyalusinglibrary.org/event/storytime-91/2030-10-25/
LOCATION:Wyalusing Public Library\, 115 Church St\, Wyalusing\, PA\, United States
GEO:41.66728;-76.261246
X-APPLE-STRUCTURED-LOCATION;VALUE=URI;X-ADDRESS=Wyalusing Public Library 115 Church St Wyalusing PA United States;X-APPLE-RADIUS=500;X-TITLE=115 Church St:geo:-76.261246,41.66728
END:VEVENT
BEGIN:VEVENT
DTSTART;TZID=America/New_York:20301101T100000
DTEND;TZID=America/New_York:20301101T110000
DTSTAMP:20260422T024021
CREATED:20260204T180302Z
LAST-MODIFIED:20260204T184003Z
UID:10001489-1919757600-1919761200@wyalusinglibrary.org
SUMMARY:Storytime
DESCRIPTION:
URL:https://wyalusinglibrary.org/event/storytime-91/2030-11-01/
LOCATION:Wyalusing Public Library\, 115 Church St\, Wyalusing\, PA\, United States
GEO:41.66728;-76.261246
X-APPLE-STRUCTURED-LOCATION;VALUE=URI;X-ADDRESS=Wyalusing Public Library 115 Church St Wyalusing PA United States;X-APPLE-RADIUS=500;X-TITLE=115 Church St:geo:-76.261246,41.66728
END:VEVENT
BEGIN:VEVENT
DTSTART;TZID=America/New_York:20301108T100000
DTEND;TZID=America/New_York:20301108T110000
DTSTAMP:20260422T024021
CREATED:20260204T180302Z
LAST-MODIFIED:20260204T184003Z
UID:10001491-1920362400-1920366000@wyalusinglibrary.org
SUMMARY:Storytime
DESCRIPTION:
URL:https://wyalusinglibrary.org/event/storytime-91/2030-11-08/
LOCATION:Wyalusing Public Library\, 115 Church St\, Wyalusing\, PA\, United States
GEO:41.66728;-76.261246
X-APPLE-STRUCTURED-LOCATION;VALUE=URI;X-ADDRESS=Wyalusing Public Library 115 Church St Wyalusing PA United States;X-APPLE-RADIUS=500;X-TITLE=115 Church St:geo:-76.261246,41.66728
END:VEVENT
BEGIN:VEVENT
DTSTART;TZID=America/New_York:20301115T100000
DTEND;TZID=America/New_York:20301115T110000
DTSTAMP:20260422T024021
CREATED:20260204T180302Z
LAST-MODIFIED:20260204T184003Z
UID:10001493-1920967200-1920970800@wyalusinglibrary.org
SUMMARY:Storytime
DESCRIPTION:
URL:https://wyalusinglibrary.org/event/storytime-91/2030-11-15/
LOCATION:Wyalusing Public Library\, 115 Church St\, Wyalusing\, PA\, United States
GEO:41.66728;-76.261246
X-APPLE-STRUCTURED-LOCATION;VALUE=URI;X-ADDRESS=Wyalusing Public Library 115 Church St Wyalusing PA United States;X-APPLE-RADIUS=500;X-TITLE=115 Church St:geo:-76.261246,41.66728
END:VEVENT
BEGIN:VEVENT
DTSTART;TZID=America/New_York:20301122T100000
DTEND;TZID=America/New_York:20301122T110000
DTSTAMP:20260422T024021
CREATED:20260204T180302Z
LAST-MODIFIED:20260204T184003Z
UID:10001495-1921572000-1921575600@wyalusinglibrary.org
SUMMARY:Storytime
DESCRIPTION:
URL:https://wyalusinglibrary.org/event/storytime-91/2030-11-22/
LOCATION:Wyalusing Public Library\, 115 Church St\, Wyalusing\, PA\, United States
GEO:41.66728;-76.261246
X-APPLE-STRUCTURED-LOCATION;VALUE=URI;X-ADDRESS=Wyalusing Public Library 115 Church St Wyalusing PA United States;X-APPLE-RADIUS=500;X-TITLE=115 Church St:geo:-76.261246,41.66728
END:VEVENT
BEGIN:VEVENT
DTSTART;TZID=America/New_York:20301129T100000
DTEND;TZID=America/New_York:20301129T110000
DTSTAMP:20260422T024021
CREATED:20260204T180302Z
LAST-MODIFIED:20260204T184003Z
UID:10001497-1922176800-1922180400@wyalusinglibrary.org
SUMMARY:Storytime
DESCRIPTION:
URL:https://wyalusinglibrary.org/event/storytime-91/2030-11-29/
LOCATION:Wyalusing Public Library\, 115 Church St\, Wyalusing\, PA\, United States
GEO:41.66728;-76.261246
X-APPLE-STRUCTURED-LOCATION;VALUE=URI;X-ADDRESS=Wyalusing Public Library 115 Church St Wyalusing PA United States;X-APPLE-RADIUS=500;X-TITLE=115 Church St:geo:-76.261246,41.66728
END:VEVENT
BEGIN:VEVENT
DTSTART;TZID=America/New_York:20301206T100000
DTEND;TZID=America/New_York:20301206T110000
DTSTAMP:20260422T024021
CREATED:20260204T180302Z
LAST-MODIFIED:20260204T184003Z
UID:10001499-1922781600-1922785200@wyalusinglibrary.org
SUMMARY:Storytime
DESCRIPTION:
URL:https://wyalusinglibrary.org/event/storytime-91/2030-12-06/
LOCATION:Wyalusing Public Library\, 115 Church St\, Wyalusing\, PA\, United States
GEO:41.66728;-76.261246
X-APPLE-STRUCTURED-LOCATION;VALUE=URI;X-ADDRESS=Wyalusing Public Library 115 Church St Wyalusing PA United States;X-APPLE-RADIUS=500;X-TITLE=115 Church St:geo:-76.261246,41.66728
END:VEVENT
BEGIN:VEVENT
DTSTART;TZID=America/New_York:20301213T100000
DTEND;TZID=America/New_York:20301213T110000
DTSTAMP:20260422T024021
CREATED:20260204T180302Z
LAST-MODIFIED:20260204T184003Z
UID:10001501-1923386400-1923390000@wyalusinglibrary.org
SUMMARY:Storytime
DESCRIPTION:
URL:https://wyalusinglibrary.org/event/storytime-91/2030-12-13/
LOCATION:Wyalusing Public Library\, 115 Church St\, Wyalusing\, PA\, United States
GEO:41.66728;-76.261246
X-APPLE-STRUCTURED-LOCATION;VALUE=URI;X-ADDRESS=Wyalusing Public Library 115 Church St Wyalusing PA United States;X-APPLE-RADIUS=500;X-TITLE=115 Church St:geo:-76.261246,41.66728
END:VEVENT
BEGIN:VEVENT
DTSTART;TZID=America/New_York:20301220T100000
DTEND;TZID=America/New_York:20301220T110000
DTSTAMP:20260422T024021
CREATED:20260204T180302Z
LAST-MODIFIED:20260204T184003Z
UID:10001503-1923991200-1923994800@wyalusinglibrary.org
SUMMARY:Storytime
DESCRIPTION:
URL:https://wyalusinglibrary.org/event/storytime-91/2030-12-20/
LOCATION:Wyalusing Public Library\, 115 Church St\, Wyalusing\, PA\, United States
GEO:41.66728;-76.261246
X-APPLE-STRUCTURED-LOCATION;VALUE=URI;X-ADDRESS=Wyalusing Public Library 115 Church St Wyalusing PA United States;X-APPLE-RADIUS=500;X-TITLE=115 Church St:geo:-76.261246,41.66728
END:VEVENT
BEGIN:VEVENT
DTSTART;TZID=America/New_York:20301227T100000
DTEND;TZID=America/New_York:20301227T110000
DTSTAMP:20260422T024021
CREATED:20260204T180302Z
LAST-MODIFIED:20260204T184003Z
UID:10001505-1924596000-1924599600@wyalusinglibrary.org
SUMMARY:Storytime
DESCRIPTION:
URL:https://wyalusinglibrary.org/event/storytime-91/2030-12-27/
LOCATION:Wyalusing Public Library\, 115 Church St\, Wyalusing\, PA\, United States
GEO:41.66728;-76.261246
X-APPLE-STRUCTURED-LOCATION;VALUE=URI;X-ADDRESS=Wyalusing Public Library 115 Church St Wyalusing PA United States;X-APPLE-RADIUS=500;X-TITLE=115 Church St:geo:-76.261246,41.66728
END:VEVENT
BEGIN:VEVENT
DTSTART;TZID=America/New_York:20310103T100000
DTEND;TZID=America/New_York:20310103T110000
DTSTAMP:20260422T024021
CREATED:20260204T180302Z
LAST-MODIFIED:20260204T184003Z
UID:10001507-1925200800-1925204400@wyalusinglibrary.org
SUMMARY:Storytime
DESCRIPTION:
URL:https://wyalusinglibrary.org/event/storytime-91/2031-01-03/
LOCATION:Wyalusing Public Library\, 115 Church St\, Wyalusing\, PA\, United States
GEO:41.66728;-76.261246
X-APPLE-STRUCTURED-LOCATION;VALUE=URI;X-ADDRESS=Wyalusing Public Library 115 Church St Wyalusing PA United States;X-APPLE-RADIUS=500;X-TITLE=115 Church St:geo:-76.261246,41.66728
END:VEVENT
BEGIN:VEVENT
DTSTART;TZID=America/New_York:20310110T100000
DTEND;TZID=America/New_York:20310110T110000
DTSTAMP:20260422T024021
CREATED:20260204T180302Z
LAST-MODIFIED:20260204T184003Z
UID:10001509-1925805600-1925809200@wyalusinglibrary.org
SUMMARY:Storytime
DESCRIPTION:
URL:https://wyalusinglibrary.org/event/storytime-91/2031-01-10/
LOCATION:Wyalusing Public Library\, 115 Church St\, Wyalusing\, PA\, United States
GEO:41.66728;-76.261246
X-APPLE-STRUCTURED-LOCATION;VALUE=URI;X-ADDRESS=Wyalusing Public Library 115 Church St Wyalusing PA United States;X-APPLE-RADIUS=500;X-TITLE=115 Church St:geo:-76.261246,41.66728
END:VEVENT
BEGIN:VEVENT
DTSTART;TZID=America/New_York:20310117T100000
DTEND;TZID=America/New_York:20310117T110000
DTSTAMP:20260422T024021
CREATED:20260204T180302Z
LAST-MODIFIED:20260204T184003Z
UID:10001511-1926410400-1926414000@wyalusinglibrary.org
SUMMARY:Storytime
DESCRIPTION:
URL:https://wyalusinglibrary.org/event/storytime-91/2031-01-17/
LOCATION:Wyalusing Public Library\, 115 Church St\, Wyalusing\, PA\, United States
GEO:41.66728;-76.261246
X-APPLE-STRUCTURED-LOCATION;VALUE=URI;X-ADDRESS=Wyalusing Public Library 115 Church St Wyalusing PA United States;X-APPLE-RADIUS=500;X-TITLE=115 Church St:geo:-76.261246,41.66728
END:VEVENT
BEGIN:VEVENT
DTSTART;TZID=America/New_York:20310124T100000
DTEND;TZID=America/New_York:20310124T110000
DTSTAMP:20260422T024021
CREATED:20260204T180302Z
LAST-MODIFIED:20260204T184003Z
UID:10001513-1927015200-1927018800@wyalusinglibrary.org
SUMMARY:Storytime
DESCRIPTION:
URL:https://wyalusinglibrary.org/event/storytime-91/2031-01-24/
LOCATION:Wyalusing Public Library\, 115 Church St\, Wyalusing\, PA\, United States
GEO:41.66728;-76.261246
X-APPLE-STRUCTURED-LOCATION;VALUE=URI;X-ADDRESS=Wyalusing Public Library 115 Church St Wyalusing PA United States;X-APPLE-RADIUS=500;X-TITLE=115 Church St:geo:-76.261246,41.66728
END:VEVENT
BEGIN:VEVENT
DTSTART;TZID=America/New_York:20310131T100000
DTEND;TZID=America/New_York:20310131T110000
DTSTAMP:20260422T024021
CREATED:20260204T180302Z
LAST-MODIFIED:20260204T184003Z
UID:10001515-1927620000-1927623600@wyalusinglibrary.org
SUMMARY:Storytime
DESCRIPTION:
URL:https://wyalusinglibrary.org/event/storytime-91/2031-01-31/
LOCATION:Wyalusing Public Library\, 115 Church St\, Wyalusing\, PA\, United States
GEO:41.66728;-76.261246
X-APPLE-STRUCTURED-LOCATION;VALUE=URI;X-ADDRESS=Wyalusing Public Library 115 Church St Wyalusing PA United States;X-APPLE-RADIUS=500;X-TITLE=115 Church St:geo:-76.261246,41.66728
END:VEVENT
END:VCALENDAR