BEGIN:VCALENDAR
VERSION:2.0
PRODID:-//Wyalusing Public Library - ECPv6.15.13//NONSGML v1.0//EN
CALSCALE:GREGORIAN
METHOD:PUBLISH
X-ORIGINAL-URL:https://wyalusinglibrary.org
X-WR-CALDESC:Events for Wyalusing Public Library
REFRESH-INTERVAL;VALUE=DURATION:PT1H
X-Robots-Tag:noindex
X-PUBLISHED-TTL:PT1H
BEGIN:VTIMEZONE
TZID:America/New_York
BEGIN:DAYLIGHT
TZOFFSETFROM:-0500
TZOFFSETTO:-0400
TZNAME:EDT
DTSTART:20260308T070000
END:DAYLIGHT
BEGIN:STANDARD
TZOFFSETFROM:-0400
TZOFFSETTO:-0500
TZNAME:EST
DTSTART:20261101T060000
END:STANDARD
BEGIN:DAYLIGHT
TZOFFSETFROM:-0500
TZOFFSETTO:-0400
TZNAME:EDT
DTSTART:20270314T070000
END:DAYLIGHT
BEGIN:STANDARD
TZOFFSETFROM:-0400
TZOFFSETTO:-0500
TZNAME:EST
DTSTART:20271107T060000
END:STANDARD
BEGIN:DAYLIGHT
TZOFFSETFROM:-0500
TZOFFSETTO:-0400
TZNAME:EDT
DTSTART:20280312T070000
END:DAYLIGHT
BEGIN:STANDARD
TZOFFSETFROM:-0400
TZOFFSETTO:-0500
TZNAME:EST
DTSTART:20281105T060000
END:STANDARD
BEGIN:DAYLIGHT
TZOFFSETFROM:-0500
TZOFFSETTO:-0400
TZNAME:EDT
DTSTART:20290311T070000
END:DAYLIGHT
BEGIN:STANDARD
TZOFFSETFROM:-0400
TZOFFSETTO:-0500
TZNAME:EST
DTSTART:20291104T060000
END:STANDARD
END:VTIMEZONE
BEGIN:VEVENT
DTSTART;TZID=America/New_York:20271126T100000
DTEND;TZID=America/New_York:20271126T110000
DTSTAMP:20260421T055417
CREATED:20260204T180302Z
LAST-MODIFIED:20260204T184003Z
UID:10001183-1827223200-1827226800@wyalusinglibrary.org
SUMMARY:Storytime
DESCRIPTION:
URL:https://wyalusinglibrary.org/event/storytime-91/2027-11-26/
LOCATION:Wyalusing Public Library\, 115 Church St\, Wyalusing\, PA\, United States
GEO:41.66728;-76.261246
X-APPLE-STRUCTURED-LOCATION;VALUE=URI;X-ADDRESS=Wyalusing Public Library 115 Church St Wyalusing PA United States;X-APPLE-RADIUS=500;X-TITLE=115 Church St:geo:-76.261246,41.66728
END:VEVENT
BEGIN:VEVENT
DTSTART;TZID=America/New_York:20271203T100000
DTEND;TZID=America/New_York:20271203T110000
DTSTAMP:20260421T055417
CREATED:20260204T180302Z
LAST-MODIFIED:20260204T184003Z
UID:10001185-1827828000-1827831600@wyalusinglibrary.org
SUMMARY:Storytime
DESCRIPTION:
URL:https://wyalusinglibrary.org/event/storytime-91/2027-12-03/
LOCATION:Wyalusing Public Library\, 115 Church St\, Wyalusing\, PA\, United States
GEO:41.66728;-76.261246
X-APPLE-STRUCTURED-LOCATION;VALUE=URI;X-ADDRESS=Wyalusing Public Library 115 Church St Wyalusing PA United States;X-APPLE-RADIUS=500;X-TITLE=115 Church St:geo:-76.261246,41.66728
END:VEVENT
BEGIN:VEVENT
DTSTART;TZID=America/New_York:20271210T100000
DTEND;TZID=America/New_York:20271210T110000
DTSTAMP:20260421T055417
CREATED:20260204T180302Z
LAST-MODIFIED:20260204T184003Z
UID:10001187-1828432800-1828436400@wyalusinglibrary.org
SUMMARY:Storytime
DESCRIPTION:
URL:https://wyalusinglibrary.org/event/storytime-91/2027-12-10/
LOCATION:Wyalusing Public Library\, 115 Church St\, Wyalusing\, PA\, United States
GEO:41.66728;-76.261246
X-APPLE-STRUCTURED-LOCATION;VALUE=URI;X-ADDRESS=Wyalusing Public Library 115 Church St Wyalusing PA United States;X-APPLE-RADIUS=500;X-TITLE=115 Church St:geo:-76.261246,41.66728
END:VEVENT
BEGIN:VEVENT
DTSTART;TZID=America/New_York:20271217T100000
DTEND;TZID=America/New_York:20271217T110000
DTSTAMP:20260421T055417
CREATED:20260204T180302Z
LAST-MODIFIED:20260204T184003Z
UID:10001189-1829037600-1829041200@wyalusinglibrary.org
SUMMARY:Storytime
DESCRIPTION:
URL:https://wyalusinglibrary.org/event/storytime-91/2027-12-17/
LOCATION:Wyalusing Public Library\, 115 Church St\, Wyalusing\, PA\, United States
GEO:41.66728;-76.261246
X-APPLE-STRUCTURED-LOCATION;VALUE=URI;X-ADDRESS=Wyalusing Public Library 115 Church St Wyalusing PA United States;X-APPLE-RADIUS=500;X-TITLE=115 Church St:geo:-76.261246,41.66728
END:VEVENT
BEGIN:VEVENT
DTSTART;TZID=America/New_York:20271224T100000
DTEND;TZID=America/New_York:20271224T110000
DTSTAMP:20260421T055417
CREATED:20260204T180302Z
LAST-MODIFIED:20260204T184003Z
UID:10001191-1829642400-1829646000@wyalusinglibrary.org
SUMMARY:Storytime
DESCRIPTION:
URL:https://wyalusinglibrary.org/event/storytime-91/2027-12-24/
LOCATION:Wyalusing Public Library\, 115 Church St\, Wyalusing\, PA\, United States
GEO:41.66728;-76.261246
X-APPLE-STRUCTURED-LOCATION;VALUE=URI;X-ADDRESS=Wyalusing Public Library 115 Church St Wyalusing PA United States;X-APPLE-RADIUS=500;X-TITLE=115 Church St:geo:-76.261246,41.66728
END:VEVENT
BEGIN:VEVENT
DTSTART;TZID=America/New_York:20271231T100000
DTEND;TZID=America/New_York:20271231T110000
DTSTAMP:20260421T055417
CREATED:20260204T180302Z
LAST-MODIFIED:20260204T184003Z
UID:10001193-1830247200-1830250800@wyalusinglibrary.org
SUMMARY:Storytime
DESCRIPTION:
URL:https://wyalusinglibrary.org/event/storytime-91/2027-12-31/
LOCATION:Wyalusing Public Library\, 115 Church St\, Wyalusing\, PA\, United States
GEO:41.66728;-76.261246
X-APPLE-STRUCTURED-LOCATION;VALUE=URI;X-ADDRESS=Wyalusing Public Library 115 Church St Wyalusing PA United States;X-APPLE-RADIUS=500;X-TITLE=115 Church St:geo:-76.261246,41.66728
END:VEVENT
BEGIN:VEVENT
DTSTART;TZID=America/New_York:20280107T100000
DTEND;TZID=America/New_York:20280107T110000
DTSTAMP:20260421T055417
CREATED:20260204T180302Z
LAST-MODIFIED:20260204T184003Z
UID:10001195-1830852000-1830855600@wyalusinglibrary.org
SUMMARY:Storytime
DESCRIPTION:
URL:https://wyalusinglibrary.org/event/storytime-91/2028-01-07/
LOCATION:Wyalusing Public Library\, 115 Church St\, Wyalusing\, PA\, United States
GEO:41.66728;-76.261246
X-APPLE-STRUCTURED-LOCATION;VALUE=URI;X-ADDRESS=Wyalusing Public Library 115 Church St Wyalusing PA United States;X-APPLE-RADIUS=500;X-TITLE=115 Church St:geo:-76.261246,41.66728
END:VEVENT
BEGIN:VEVENT
DTSTART;TZID=America/New_York:20280114T100000
DTEND;TZID=America/New_York:20280114T110000
DTSTAMP:20260421T055417
CREATED:20260204T180302Z
LAST-MODIFIED:20260204T184003Z
UID:10001197-1831456800-1831460400@wyalusinglibrary.org
SUMMARY:Storytime
DESCRIPTION:
URL:https://wyalusinglibrary.org/event/storytime-91/2028-01-14/
LOCATION:Wyalusing Public Library\, 115 Church St\, Wyalusing\, PA\, United States
GEO:41.66728;-76.261246
X-APPLE-STRUCTURED-LOCATION;VALUE=URI;X-ADDRESS=Wyalusing Public Library 115 Church St Wyalusing PA United States;X-APPLE-RADIUS=500;X-TITLE=115 Church St:geo:-76.261246,41.66728
END:VEVENT
BEGIN:VEVENT
DTSTART;TZID=America/New_York:20280121T100000
DTEND;TZID=America/New_York:20280121T110000
DTSTAMP:20260421T055417
CREATED:20260204T180302Z
LAST-MODIFIED:20260204T184003Z
UID:10001199-1832061600-1832065200@wyalusinglibrary.org
SUMMARY:Storytime
DESCRIPTION:
URL:https://wyalusinglibrary.org/event/storytime-91/2028-01-21/
LOCATION:Wyalusing Public Library\, 115 Church St\, Wyalusing\, PA\, United States
GEO:41.66728;-76.261246
X-APPLE-STRUCTURED-LOCATION;VALUE=URI;X-ADDRESS=Wyalusing Public Library 115 Church St Wyalusing PA United States;X-APPLE-RADIUS=500;X-TITLE=115 Church St:geo:-76.261246,41.66728
END:VEVENT
BEGIN:VEVENT
DTSTART;TZID=America/New_York:20280128T100000
DTEND;TZID=America/New_York:20280128T110000
DTSTAMP:20260421T055417
CREATED:20260204T180302Z
LAST-MODIFIED:20260204T184003Z
UID:10001201-1832666400-1832670000@wyalusinglibrary.org
SUMMARY:Storytime
DESCRIPTION:
URL:https://wyalusinglibrary.org/event/storytime-91/2028-01-28/
LOCATION:Wyalusing Public Library\, 115 Church St\, Wyalusing\, PA\, United States
GEO:41.66728;-76.261246
X-APPLE-STRUCTURED-LOCATION;VALUE=URI;X-ADDRESS=Wyalusing Public Library 115 Church St Wyalusing PA United States;X-APPLE-RADIUS=500;X-TITLE=115 Church St:geo:-76.261246,41.66728
END:VEVENT
BEGIN:VEVENT
DTSTART;TZID=America/New_York:20280204T100000
DTEND;TZID=America/New_York:20280204T110000
DTSTAMP:20260421T055417
CREATED:20260204T180302Z
LAST-MODIFIED:20260204T184003Z
UID:10001203-1833271200-1833274800@wyalusinglibrary.org
SUMMARY:Storytime
DESCRIPTION:
URL:https://wyalusinglibrary.org/event/storytime-91/2028-02-04/
LOCATION:Wyalusing Public Library\, 115 Church St\, Wyalusing\, PA\, United States
GEO:41.66728;-76.261246
X-APPLE-STRUCTURED-LOCATION;VALUE=URI;X-ADDRESS=Wyalusing Public Library 115 Church St Wyalusing PA United States;X-APPLE-RADIUS=500;X-TITLE=115 Church St:geo:-76.261246,41.66728
END:VEVENT
BEGIN:VEVENT
DTSTART;TZID=America/New_York:20280211T100000
DTEND;TZID=America/New_York:20280211T110000
DTSTAMP:20260421T055417
CREATED:20260204T180302Z
LAST-MODIFIED:20260204T184003Z
UID:10001205-1833876000-1833879600@wyalusinglibrary.org
SUMMARY:Storytime
DESCRIPTION:
URL:https://wyalusinglibrary.org/event/storytime-91/2028-02-11/
LOCATION:Wyalusing Public Library\, 115 Church St\, Wyalusing\, PA\, United States
GEO:41.66728;-76.261246
X-APPLE-STRUCTURED-LOCATION;VALUE=URI;X-ADDRESS=Wyalusing Public Library 115 Church St Wyalusing PA United States;X-APPLE-RADIUS=500;X-TITLE=115 Church St:geo:-76.261246,41.66728
END:VEVENT
BEGIN:VEVENT
DTSTART;TZID=America/New_York:20280218T100000
DTEND;TZID=America/New_York:20280218T110000
DTSTAMP:20260421T055417
CREATED:20260204T180302Z
LAST-MODIFIED:20260204T184003Z
UID:10001207-1834480800-1834484400@wyalusinglibrary.org
SUMMARY:Storytime
DESCRIPTION:
URL:https://wyalusinglibrary.org/event/storytime-91/2028-02-18/
LOCATION:Wyalusing Public Library\, 115 Church St\, Wyalusing\, PA\, United States
GEO:41.66728;-76.261246
X-APPLE-STRUCTURED-LOCATION;VALUE=URI;X-ADDRESS=Wyalusing Public Library 115 Church St Wyalusing PA United States;X-APPLE-RADIUS=500;X-TITLE=115 Church St:geo:-76.261246,41.66728
END:VEVENT
BEGIN:VEVENT
DTSTART;TZID=America/New_York:20280225T100000
DTEND;TZID=America/New_York:20280225T110000
DTSTAMP:20260421T055417
CREATED:20260204T180302Z
LAST-MODIFIED:20260204T184003Z
UID:10001209-1835085600-1835089200@wyalusinglibrary.org
SUMMARY:Storytime
DESCRIPTION:
URL:https://wyalusinglibrary.org/event/storytime-91/2028-02-25/
LOCATION:Wyalusing Public Library\, 115 Church St\, Wyalusing\, PA\, United States
GEO:41.66728;-76.261246
X-APPLE-STRUCTURED-LOCATION;VALUE=URI;X-ADDRESS=Wyalusing Public Library 115 Church St Wyalusing PA United States;X-APPLE-RADIUS=500;X-TITLE=115 Church St:geo:-76.261246,41.66728
END:VEVENT
BEGIN:VEVENT
DTSTART;TZID=America/New_York:20280303T100000
DTEND;TZID=America/New_York:20280303T110000
DTSTAMP:20260421T055417
CREATED:20260204T180302Z
LAST-MODIFIED:20260204T184003Z
UID:10001211-1835690400-1835694000@wyalusinglibrary.org
SUMMARY:Storytime
DESCRIPTION:
URL:https://wyalusinglibrary.org/event/storytime-91/2028-03-03/
LOCATION:Wyalusing Public Library\, 115 Church St\, Wyalusing\, PA\, United States
GEO:41.66728;-76.261246
X-APPLE-STRUCTURED-LOCATION;VALUE=URI;X-ADDRESS=Wyalusing Public Library 115 Church St Wyalusing PA United States;X-APPLE-RADIUS=500;X-TITLE=115 Church St:geo:-76.261246,41.66728
END:VEVENT
BEGIN:VEVENT
DTSTART;TZID=America/New_York:20280310T100000
DTEND;TZID=America/New_York:20280310T110000
DTSTAMP:20260421T055417
CREATED:20260204T180302Z
LAST-MODIFIED:20260204T184003Z
UID:10001213-1836295200-1836298800@wyalusinglibrary.org
SUMMARY:Storytime
DESCRIPTION:
URL:https://wyalusinglibrary.org/event/storytime-91/2028-03-10/
LOCATION:Wyalusing Public Library\, 115 Church St\, Wyalusing\, PA\, United States
GEO:41.66728;-76.261246
X-APPLE-STRUCTURED-LOCATION;VALUE=URI;X-ADDRESS=Wyalusing Public Library 115 Church St Wyalusing PA United States;X-APPLE-RADIUS=500;X-TITLE=115 Church St:geo:-76.261246,41.66728
END:VEVENT
BEGIN:VEVENT
DTSTART;TZID=America/New_York:20280317T100000
DTEND;TZID=America/New_York:20280317T110000
DTSTAMP:20260421T055417
CREATED:20260204T180302Z
LAST-MODIFIED:20260204T184003Z
UID:10001215-1836900000-1836903600@wyalusinglibrary.org
SUMMARY:Storytime
DESCRIPTION:
URL:https://wyalusinglibrary.org/event/storytime-91/2028-03-17/
LOCATION:Wyalusing Public Library\, 115 Church St\, Wyalusing\, PA\, United States
GEO:41.66728;-76.261246
X-APPLE-STRUCTURED-LOCATION;VALUE=URI;X-ADDRESS=Wyalusing Public Library 115 Church St Wyalusing PA United States;X-APPLE-RADIUS=500;X-TITLE=115 Church St:geo:-76.261246,41.66728
END:VEVENT
BEGIN:VEVENT
DTSTART;TZID=America/New_York:20280324T100000
DTEND;TZID=America/New_York:20280324T110000
DTSTAMP:20260421T055417
CREATED:20260204T180302Z
LAST-MODIFIED:20260204T184003Z
UID:10001217-1837504800-1837508400@wyalusinglibrary.org
SUMMARY:Storytime
DESCRIPTION:
URL:https://wyalusinglibrary.org/event/storytime-91/2028-03-24/
LOCATION:Wyalusing Public Library\, 115 Church St\, Wyalusing\, PA\, United States
GEO:41.66728;-76.261246
X-APPLE-STRUCTURED-LOCATION;VALUE=URI;X-ADDRESS=Wyalusing Public Library 115 Church St Wyalusing PA United States;X-APPLE-RADIUS=500;X-TITLE=115 Church St:geo:-76.261246,41.66728
END:VEVENT
BEGIN:VEVENT
DTSTART;TZID=America/New_York:20280331T100000
DTEND;TZID=America/New_York:20280331T110000
DTSTAMP:20260421T055417
CREATED:20260204T180302Z
LAST-MODIFIED:20260204T184003Z
UID:10001219-1838109600-1838113200@wyalusinglibrary.org
SUMMARY:Storytime
DESCRIPTION:
URL:https://wyalusinglibrary.org/event/storytime-91/2028-03-31/
LOCATION:Wyalusing Public Library\, 115 Church St\, Wyalusing\, PA\, United States
GEO:41.66728;-76.261246
X-APPLE-STRUCTURED-LOCATION;VALUE=URI;X-ADDRESS=Wyalusing Public Library 115 Church St Wyalusing PA United States;X-APPLE-RADIUS=500;X-TITLE=115 Church St:geo:-76.261246,41.66728
END:VEVENT
BEGIN:VEVENT
DTSTART;TZID=America/New_York:20280407T100000
DTEND;TZID=America/New_York:20280407T110000
DTSTAMP:20260421T055417
CREATED:20260204T180302Z
LAST-MODIFIED:20260204T184003Z
UID:10001221-1838714400-1838718000@wyalusinglibrary.org
SUMMARY:Storytime
DESCRIPTION:
URL:https://wyalusinglibrary.org/event/storytime-91/2028-04-07/
LOCATION:Wyalusing Public Library\, 115 Church St\, Wyalusing\, PA\, United States
GEO:41.66728;-76.261246
X-APPLE-STRUCTURED-LOCATION;VALUE=URI;X-ADDRESS=Wyalusing Public Library 115 Church St Wyalusing PA United States;X-APPLE-RADIUS=500;X-TITLE=115 Church St:geo:-76.261246,41.66728
END:VEVENT
BEGIN:VEVENT
DTSTART;TZID=America/New_York:20280414T100000
DTEND;TZID=America/New_York:20280414T110000
DTSTAMP:20260421T055417
CREATED:20260204T180302Z
LAST-MODIFIED:20260204T184003Z
UID:10001223-1839319200-1839322800@wyalusinglibrary.org
SUMMARY:Storytime
DESCRIPTION:
URL:https://wyalusinglibrary.org/event/storytime-91/2028-04-14/
LOCATION:Wyalusing Public Library\, 115 Church St\, Wyalusing\, PA\, United States
GEO:41.66728;-76.261246
X-APPLE-STRUCTURED-LOCATION;VALUE=URI;X-ADDRESS=Wyalusing Public Library 115 Church St Wyalusing PA United States;X-APPLE-RADIUS=500;X-TITLE=115 Church St:geo:-76.261246,41.66728
END:VEVENT
BEGIN:VEVENT
DTSTART;TZID=America/New_York:20280421T100000
DTEND;TZID=America/New_York:20280421T110000
DTSTAMP:20260421T055417
CREATED:20260204T180302Z
LAST-MODIFIED:20260204T184003Z
UID:10001225-1839924000-1839927600@wyalusinglibrary.org
SUMMARY:Storytime
DESCRIPTION:
URL:https://wyalusinglibrary.org/event/storytime-91/2028-04-21/
LOCATION:Wyalusing Public Library\, 115 Church St\, Wyalusing\, PA\, United States
GEO:41.66728;-76.261246
X-APPLE-STRUCTURED-LOCATION;VALUE=URI;X-ADDRESS=Wyalusing Public Library 115 Church St Wyalusing PA United States;X-APPLE-RADIUS=500;X-TITLE=115 Church St:geo:-76.261246,41.66728
END:VEVENT
BEGIN:VEVENT
DTSTART;TZID=America/New_York:20280428T100000
DTEND;TZID=America/New_York:20280428T110000
DTSTAMP:20260421T055417
CREATED:20260204T180302Z
LAST-MODIFIED:20260204T184003Z
UID:10001227-1840528800-1840532400@wyalusinglibrary.org
SUMMARY:Storytime
DESCRIPTION:
URL:https://wyalusinglibrary.org/event/storytime-91/2028-04-28/
LOCATION:Wyalusing Public Library\, 115 Church St\, Wyalusing\, PA\, United States
GEO:41.66728;-76.261246
X-APPLE-STRUCTURED-LOCATION;VALUE=URI;X-ADDRESS=Wyalusing Public Library 115 Church St Wyalusing PA United States;X-APPLE-RADIUS=500;X-TITLE=115 Church St:geo:-76.261246,41.66728
END:VEVENT
BEGIN:VEVENT
DTSTART;TZID=America/New_York:20280505T100000
DTEND;TZID=America/New_York:20280505T110000
DTSTAMP:20260421T055417
CREATED:20260204T180302Z
LAST-MODIFIED:20260204T184003Z
UID:10001229-1841133600-1841137200@wyalusinglibrary.org
SUMMARY:Storytime
DESCRIPTION:
URL:https://wyalusinglibrary.org/event/storytime-91/2028-05-05/
LOCATION:Wyalusing Public Library\, 115 Church St\, Wyalusing\, PA\, United States
GEO:41.66728;-76.261246
X-APPLE-STRUCTURED-LOCATION;VALUE=URI;X-ADDRESS=Wyalusing Public Library 115 Church St Wyalusing PA United States;X-APPLE-RADIUS=500;X-TITLE=115 Church St:geo:-76.261246,41.66728
END:VEVENT
BEGIN:VEVENT
DTSTART;TZID=America/New_York:20280512T100000
DTEND;TZID=America/New_York:20280512T110000
DTSTAMP:20260421T055417
CREATED:20260204T180302Z
LAST-MODIFIED:20260204T184003Z
UID:10001231-1841738400-1841742000@wyalusinglibrary.org
SUMMARY:Storytime
DESCRIPTION:
URL:https://wyalusinglibrary.org/event/storytime-91/2028-05-12/
LOCATION:Wyalusing Public Library\, 115 Church St\, Wyalusing\, PA\, United States
GEO:41.66728;-76.261246
X-APPLE-STRUCTURED-LOCATION;VALUE=URI;X-ADDRESS=Wyalusing Public Library 115 Church St Wyalusing PA United States;X-APPLE-RADIUS=500;X-TITLE=115 Church St:geo:-76.261246,41.66728
END:VEVENT
BEGIN:VEVENT
DTSTART;TZID=America/New_York:20280519T100000
DTEND;TZID=America/New_York:20280519T110000
DTSTAMP:20260421T055417
CREATED:20260204T180302Z
LAST-MODIFIED:20260204T184003Z
UID:10001233-1842343200-1842346800@wyalusinglibrary.org
SUMMARY:Storytime
DESCRIPTION:
URL:https://wyalusinglibrary.org/event/storytime-91/2028-05-19/
LOCATION:Wyalusing Public Library\, 115 Church St\, Wyalusing\, PA\, United States
GEO:41.66728;-76.261246
X-APPLE-STRUCTURED-LOCATION;VALUE=URI;X-ADDRESS=Wyalusing Public Library 115 Church St Wyalusing PA United States;X-APPLE-RADIUS=500;X-TITLE=115 Church St:geo:-76.261246,41.66728
END:VEVENT
BEGIN:VEVENT
DTSTART;TZID=America/New_York:20280526T100000
DTEND;TZID=America/New_York:20280526T110000
DTSTAMP:20260421T055417
CREATED:20260204T180302Z
LAST-MODIFIED:20260204T184003Z
UID:10001235-1842948000-1842951600@wyalusinglibrary.org
SUMMARY:Storytime
DESCRIPTION:
URL:https://wyalusinglibrary.org/event/storytime-91/2028-05-26/
LOCATION:Wyalusing Public Library\, 115 Church St\, Wyalusing\, PA\, United States
GEO:41.66728;-76.261246
X-APPLE-STRUCTURED-LOCATION;VALUE=URI;X-ADDRESS=Wyalusing Public Library 115 Church St Wyalusing PA United States;X-APPLE-RADIUS=500;X-TITLE=115 Church St:geo:-76.261246,41.66728
END:VEVENT
BEGIN:VEVENT
DTSTART;TZID=America/New_York:20280602T100000
DTEND;TZID=America/New_York:20280602T110000
DTSTAMP:20260421T055417
CREATED:20260204T180302Z
LAST-MODIFIED:20260204T184003Z
UID:10001237-1843552800-1843556400@wyalusinglibrary.org
SUMMARY:Storytime
DESCRIPTION:
URL:https://wyalusinglibrary.org/event/storytime-91/2028-06-02/
LOCATION:Wyalusing Public Library\, 115 Church St\, Wyalusing\, PA\, United States
GEO:41.66728;-76.261246
X-APPLE-STRUCTURED-LOCATION;VALUE=URI;X-ADDRESS=Wyalusing Public Library 115 Church St Wyalusing PA United States;X-APPLE-RADIUS=500;X-TITLE=115 Church St:geo:-76.261246,41.66728
END:VEVENT
BEGIN:VEVENT
DTSTART;TZID=America/New_York:20280609T100000
DTEND;TZID=America/New_York:20280609T110000
DTSTAMP:20260421T055417
CREATED:20260204T180302Z
LAST-MODIFIED:20260204T184003Z
UID:10001239-1844157600-1844161200@wyalusinglibrary.org
SUMMARY:Storytime
DESCRIPTION:
URL:https://wyalusinglibrary.org/event/storytime-91/2028-06-09/
LOCATION:Wyalusing Public Library\, 115 Church St\, Wyalusing\, PA\, United States
GEO:41.66728;-76.261246
X-APPLE-STRUCTURED-LOCATION;VALUE=URI;X-ADDRESS=Wyalusing Public Library 115 Church St Wyalusing PA United States;X-APPLE-RADIUS=500;X-TITLE=115 Church St:geo:-76.261246,41.66728
END:VEVENT
BEGIN:VEVENT
DTSTART;TZID=America/New_York:20280616T100000
DTEND;TZID=America/New_York:20280616T110000
DTSTAMP:20260421T055417
CREATED:20260204T180302Z
LAST-MODIFIED:20260204T184003Z
UID:10001241-1844762400-1844766000@wyalusinglibrary.org
SUMMARY:Storytime
DESCRIPTION:
URL:https://wyalusinglibrary.org/event/storytime-91/2028-06-16/
LOCATION:Wyalusing Public Library\, 115 Church St\, Wyalusing\, PA\, United States
GEO:41.66728;-76.261246
X-APPLE-STRUCTURED-LOCATION;VALUE=URI;X-ADDRESS=Wyalusing Public Library 115 Church St Wyalusing PA United States;X-APPLE-RADIUS=500;X-TITLE=115 Church St:geo:-76.261246,41.66728
END:VEVENT
END:VCALENDAR